Workbook
Name SKU: #REF!
Name Spring_SKU: Originals!$1:$1048576

Sheet Originals
B2: STORE NAME: | C2: Insert your business name here
C3: LEGIONNAIRE | J3: TODDLER BUCKET | P3: PONYTAIL* | R3: or CLASSIC BUCKET
C4: 0-3 mt 37 cm XXS | D4: 3-6 mt 42 cm XS | E4: 6-12 mt 47 cm S | F4: 1-2 yr 50 cm M | G4: 2-3 yr 52 cm L | H4: 3-6 yr 54 cm XL | I4: Price ex GST | J4: 0-3 mt 37 cm XXS | K4: 3-6 mt 42 cm XS | L4: 6-12 mt 47 cm S | M4: 1-2 yr 50 cm M | N4: 2-3 yr 52 cm L | O4: Price ex GST | P4: 2-3 yr 52 cm L | Q4: 3-6 yr 54 cm XL | R4: 6-13 yr 56 cm XXL | S4: 13+ yr 58 cm XXXL | T4: Price ex GST | U4: Total ex GST
B6: Originals - Print
B7: INDIE* | I7: 16.8 | O7: 16.8 | T7: 17.7 | U7: =(C7+D7+E7+F7+G7+H7)*I7+(J7+K7+L7+M7+N7)*O7+(P7+Q7+R7+S7)*T7 -> 0
B8: SKU | C8: LG384-INDIE-37 | D8: LG384-INDIE-42 | E8: LG384-INDIE-47 | F8: LG384-INDIE-50 | G8: LG384-INDIE-52 | H8: LG384-INDIE-54 | J8: BB385-INDIE-37 | K8: BB385-INDIE-42 | L8: BB385-INDIE-47 | M8: BB385-INDIE-50 | N8: BB385-INDIE-52 | P8: BP386-INDIE-52 | Q8: BP386-INDIE-54 | R8: BP386-INDIE-56 | S8: BP386-INDIE-58
B9: HUGO | I9: 16.8 | O9: 16.8 | T9: 17.7 | U9: =(C9+D9+E9+F9+G9+H9)*I9+(J9+K9+L9+M9+N9)*O9+(P9+Q9+R9+S9)*T9 -> 0
B10: SKU | C10: LG384-HUGO-37 | D10: LG384-HUGO-42 | E10: LG384-HUGO-47 | F10: LG384-HUGO-50 | G10: LG384-HUGO-52 | H10: LG384-HUGO-54 | J10: BB385-HUGO-37 | K10: BB385-HUGO-42 | L10: BB385-HUGO-47 | M10: BB385-HUGO-50 | N10: BB385-HUGO-52 | P10: BU387-HUGO-52 | Q10: BU387-HUGO-54 | R10: BU387-HUGO-56 | S10: BU387-HUGO-58
B11: RORY | I11: 16.8 | O11: 16.8 | T11: 17.7 | U11: =(C11+D11+E11+F11+G11+H11)*I11+(J11+K11+L11+M11+N11)*O11+(P11+Q11+R11+S11)*T11 -> 0
B12: SKU | C12: LG384-RORY-37 | D12: LG384-RORY-42 | E12: LG384-RORY-47 | F12: LG384-RORY-50 | G12: LG384-RORY-52 | H12: LG384-RORY-54 | J12: BB385-RORY-37 | K12: BB385-RORY-42 | L12: BB385-RORY-47 | M12: BB385-RORY-50 | N12: BB385-RORY-52 | P12: BU387-RORY-52 | Q12: BU387-RORY-54 | R12: BU387-RORY-56 | S12: BU387-RORY-58
B13: PINK STRIPE* | I13: 16.8 | O13: 16.8 | T13: 17.7 | U13: =(C13+D13+E13+F13+G13+H13)*I13+(J13+K13+L13+M13+N13)*O13+(P13+Q13+R13+S13)*T13 -> 0
B14: SKU | C14: LG285-PINKSTRIPE-37 | D14: LG285-PINKSTRIPE-42 | E14: LG285-PINKSTRIPE-47 | F14: LG285-PINKSTRIPE-50 | G14: LG285-PINKSTRIPE-52 | H14: LG285-PINKSTRIPE-54 | J14: BB286-PINKSTRIPE-37 | K14: BB286-PINKSTRIPE-42 | L14: BB286-PINKSTRIPE-47 | M14: BB286-PINKSTRIPE-50 | N14: BB286-PINKSTRIPE-52 | P14: BP287-PINKSTRIPE-52 | Q14: BP287-PINKSTRIPE-54 | R14: BP287-PINKSTRIPE-56 | S14: BP287-PINKSTRIPE-58
B15: NATURAL STRIPE | I15: 16.8 | O15: 16.8 | T15: 17.7 | U15: =(C15+D15+E15+F15+G15+H15)*I15+(J15+K15+L15+M15+N15)*O15+(P15+Q15+R15+S15)*T15 -> 0
B16: SKU | C16: LG285-NATSTRIPE-37 | D16: LG285-NATSTRIPE-42 | E16: LG285-NATSTRIPE-47 | F16: LG285-NATSTRIPE-50 | G16: LG285-NATSTRIPE-52 | H16: LG285-NATSTRIPE-54 | J16: BB286-NATSTRIPE-37 | K16: BB286-NATSTRIPE-42 | L16: BB286-NATSTRIPE-47 | M16: BB286-NATSTRIPE-50 | N16: BB286-NATSTRIPE-52 | P16: BU288-NATSTRIPE-52 | Q16: BU288-NATSTRIPE-54 | R16: BU288-NATSTRIPE-56 | S16: BU288-NATSTRIPE-58
B17: NATURAL STRIPE PONYTAIL | I17: 0 | O17: 0 | T17: 17.7 | U17: =(C17+D17+E17+F17+G17+H17)*I17+(J17+K17+L17+M17+N17)*O17+(P17+Q17+R17+S17)*T17 -> 0
B18: SKU | P18: BP287-NATSTRIPE-52 | Q18: BP287-NATSTRIPE-54 | R18: BP287-NATSTRIPE-56 | S18: BP287-NATSTRIPE-58
B19: Originals - Plain
B20: BABY BLUE | I20: 14.98 | O20: 14.98 | T20: 0 | U20: =(C20+D20+E20+F20+G20+H20)*I20+(J20+K20+L20+M20+N20)*O20+(P20+Q20+R20+S20)*T20 -> 0
B21: SKU | C21: LG003-BABYBLUE-37 | D21: LG003-BABYBLUE-42 | E21: LG003-BABYBLUE-47 | F21: LG003-BABYBLUE-50 | G21: LG003-BABYBLUE-52 | J21: BB055-BABYBLUE-37 | K21: BB055-BABYBLUE-42 | L21: BB055-BABYBLUE-47 | M21: BB055-BABYBLUE-50 | N21: BB055-BABYBLUE-52
B22: BABY PINK PONYTAIL* | I22: 0 | O22: 0 | T22: 15.89 | U22: =(C22+D22+E22+F22+G22+H22)*I22+(J22+K22+L22+M22+N22)*O22+(P22+Q22+R22+S22)*T22 -> 0
B23: SKU | P23: BP097-BABYPINK-52 | Q23: BP097-BABYPINK-54 | R23: BP097-BABYPINK-56
B24: BLUSH | I24: 14.98 | O24: 14.98 | T24: 0 | U24: =(C24+D24+E24+F24+G24+H24)*I24+(J24+K24+L24+M24+N24)*O24+(P24+Q24+R24+S24)*T24 -> 0
B25: SKU | C25: LG003-BLUSH-37 | D25: LG003-BLUSH-42 | E25: LG003-BLUSH-47 | F25: LG003-BLUSH-50 | G25: LG003-BLUSH-52 | J25: BB055-BLUSH-37 | K25: BB055-BLUSH-42 | L25: BB055-BLUSH-47 | M25: BB055-BLUSH-50 | N25: BB055-BLUSH-52
B26: BRIGHT BLUE | I26: 14.98 | O26: 0 | T26: 15.89 | U26: =(C26+D26+E26+F26+G26+H26)*I26+(J26+K26+L26+M26+N26)*O26+(P26+Q26+R26+S26)*T26 -> 0
B27: SKU | P27: BU002-BRIGHTBLUE-52 | Q27: BU002-BRIGHTBLUE-54 | R27: BU002-BRIGHTBLUE-56
B28: BRIGHT PINK PONYTAIL* | I28: 14.98 | O28: 0 | T28: 15.89 | U28: =(C28+D28+E28+F28+G28+H28)*I28+(J28+K28+L28+M28+N28)*O28+(P28+Q28+R28+S28)*T28 -> 0
B29: SKU | P29: BP097-BRIGHTPINK-52 | Q29: BP097-BRIGHTPINK-54 | R29: BP097-BRIGHTPINK-56
B30: CHAMBRAY | I30: 14.98 | O30: 14.98 | T30: 15.89 | U30: =(C30+D30+E30+F30+G30+H30)*I30+(J30+K30+L30+M30+N30)*O30+(P30+Q30+R30+S30)*T30 -> 0
B31: SKU | C31: LG003-CHAMBRAY-37 | D31: LG003-CHAMBRAY-42 | E31: LG003-CHAMBRAY-47 | F31: LG003-CHAMBRAY-50 | G31: LG003-CHAMBRAY-52 | H31: LG003-CHAMBRAY-54 | J31: BB055-CHAMBRAY-37 | K31: BB055-CHAMBRAY-42 | L31: BB055-CHAMBRAY-47 | M31: BB055-CHAMBRAY-50 | N31: BB055-CHAMBRAY-52 | P31: BU002-CHAMBRAY-52 | Q31: BU002-CHAMBRAY-54 | R31: BU002-CHAMBRAY-56 | S31: BU002-CHAMBRAY-58
B32: CHAMBRAY PONYTAIL* | I32: 0 | O32: 0 | T32: 15.89 | U32: =(C32+D32+E32+F32+G32+H32)*I32+(J32+K32+L32+M32+N32)*O32+(P32+Q32+R32+S32)*T32 -> 0
B33: SKU | P33: BP097-CHAMBRAY-52 | Q33: BP097-CHAMBRAY-54 | R33: BP097-CHAMBRAY-56 | S33: BP097-CHAMBRAY-58
B34: DENIM | I34: 14.98 | O34: 14.98 | T34: 15.89 | U34: =(C34+D34+E34+F34+G34+H34)*I34+(J34+K34+L34+M34+N34)*O34+(P34+Q34+R34+S34)*T34 -> 0
B35: SKU | C35: LG003-DENIM-37 | D35: LG003-DENIM-42 | E35: LG003-DENIM-47 | F35: LG003-DENIM-50 | G35: LG003-DENIM-52 | H35: LG003-DENIM-54 | J35: BB055-DENIM-37 | K35: BB055-DENIM-42 | L35: BB055-DENIM-47 | M35: BB055-DENIM-50 | N35: BB055-DENIM-52 | P35: BU002-DENIM-52 | Q35: BU002-DENIM-54 | R35: BU002-DENIM-56 | S35: BU002-DENIM-58
B36: DENIM PONYTAIL* | I36: 0 | O36: 0 | T36: 15.89 | U36: =(C36+D36+E36+F36+G36+H36)*I36+(J36+K36+L36+M36+N36)*O36+(P36+Q36+R36+S36)*T36 -> 0
B37: SKU | P37: BP097-DENIM-52 | Q37: BP097-DENIM-54 | R37: BP097-DENIM-56 | S37: BP097-DENIM-58
B38: GREEN | I38: 0 | O38: 0 | T38: 15.89 | U38: =(C38+D38+E38+F38+G38+H38)*I38+(J38+K38+L38+M38+N38)*O38+(P38+Q38+R38+S38)*T38 -> 0
B39: SKU | P39: BU002-GREEN-52 | Q39: BU002-GREEN-54 | R39: BU002-GREEN-56
B40: GREY MARLE | I40: 14.98 | O40: 14.07 | T40: 15.89 | U40: =(C40+D40+E40+F40+G40+H40)*I40+(J40+K40+L40+M40+N40)*O40+(P40+Q40+R40+S40)*T40 -> 0
B41: SKU | C41: LG003-GREYMARLE-37 | D41: LG003-GREYMARLE-42 | E41: LG003-GREYMARLE-47 | F41: LG003-GREYMARLE-50 | G41: LG003-GREYMARLE-52 | H41: LG003-GREYMARLE-54 | J41: BB055-GREYMARLE-37 | K41: BB055-GREYMARLE-42 | L41: BB055-GREYMARLE-47 | M41: BB055-GREYMARLE-50 | N41: BB055-GREYMARLE-52 | P41: BU002-GREYMARLE-52 | Q41: BU002-GREYMARLE-54 | R41: BU002-GREYMARLE-56 | S41: BU002-GREYMARLE-58
B42: KHAKI | I42: 14.98 | O42: 14.07 | T42: 15.89 | U42: =(C42+D42+E42+F42+G42+H42)*I42+(J42+K42+L42+M42+N42)*O42+(P42+Q42+R42+S42)*T42 -> 0
...

Sheet Fleece
B2: STORE NAME: | C2: =Originals!C2 -> Insert your business name here
C3: FLEECY TEDDY BEANIE | I3: FLEECY LEGIONNAIRE | O3: NOVELTY BEANIE
C4: 0-3 mt 37 cm XXS | D4: 3-6 mt 42 cm XS | E4: 6-12 mt 47 cm S | F4: 1-2 yr 50 cm M | G4: 2-3 yr 52 cm L | H4: Price ex GST | I4: 6-12 mt 47 cm S | J4: 1-2 yr 50 cm M | K4: 2-3 yr 52 cm L | L4: 3-6 yr 54 cm XL | M4: 6-13 yr 56 cm XXL | N4: Price ex GST | O4: 0-3 mt 37 cm XXS | P4: 3-6 mt 42 cm XS | Q4: 6-12 mt 47 cm S | R4: 1-2 yr 50 cm M | S4: 2-3 yr 52 cm L | T4: 3-6 yr 54 cm XL | U4: 6-13 yr 56 cm XXL | V4: Price ex GST | W4: Total ex GST
B5: Fleece
B6: KOALA | H6: 0 | N6: 0 | V6: 15.89 | W6: =(C6+D6+E6+F6+G6)*H6+(I6+J6+K6+L6+M6)*N6+(O6+P6+Q6+R6+S6+T6+U6)*V6 -> 0
B7: SKU | O7: BE058-GREYMARLE-37 | P7: BE058-GREYMARLE-42 | Q7: BE058-GREYMARLE-47 | R7: BE058-GREYMARLE-50 | S7: BE058-GREYMARLE-52 | T7: BE058-GREYMARLE-54 | U7: BE058-GREYMARLE-56
B8: PUG | H8: 0 | N8: 0 | V8: 15.89 | W8: =(C8+D8+E8+F8+G8)*H8+(I8+J8+K8+L8+M8)*N8+(O8+P8+Q8+R8+S8+T8+U8)*V8 -> 0
B9: SKU | O9: BE324-PUPPY-37 | P9: BE324-PUPPY-42 | Q9: BE324-PUPPY-47 | R9: BE324-PUPPY-50 | S9: BE324-PUPPY-52 | T9: BE324-PUPPY-54 | U9: BE324-PUPPY-56
B10: KITTY | H10: 0 | N10: 0 | V10: 17.7 | W10: =(C10+D10+E10+F10+G10)*H10+(I10+J10+K10+L10+M10)*N10+(O10+P10+Q10+R10+S10+T10+U10)*V10 -> 0
B11: SKU | O11: BE320-KITTY-37 | P11: BE320-KITTY-42 | Q11: BE320-KITTY-47 | R11: BE320-KITTY-50 | S11: BE320-KITTY-52 | T11: BE320-KITTY-54 | U11: BE320-KITTY-56
B12: TEDDY | H12: 0 | N12: 0 | V12: 17.7 | W12: =(C12+D12+E12+F12+G12)*H12+(I12+J12+K12+L12+M12)*N12+(O12+P12+Q12+R12+S12+T12+U12)*V12 -> 0
B13: SKU | O13: BE321-TEDDY-37 | P13: BE321-TEDDY-42 | Q13: BE321-TEDDY-47 | R13: BE321-TEDDY-50 | S13: BE321-TEDDY-52 | T13: BE321-TEDDY-54 | U13: BE321-TEDDY-56
B14: DENIM | H14: 14.07 | N14: 15.89 | V14: 0 | W14: =(C14+D14+E14+F14+G14)*H14+(I14+J14+K14+L14+M14)*N14+(O14+P14+Q14+R14+S14+T14+U14)*V14 -> 0
B15: SKU | C15: BE057-DENIM-37 | D15: BE057-DENIM-42 | E15: BE057-DENIM-47 | F15: BE057-DENIM-50 | G15: BE057-DENIM-52 | I15: LG059-DENIM-47 | J15: LG059-DENIM-50 | K15: LG059-DENIM-52 | L15: LG059-DENIM-54 | M15: LG059-DENIM-56
B16: BABY PINK MARLE | H16: 14.07 | N16: 15.89 | V16: 0 | W16: =(C16+D16+E16+F16+G16)*H16+(I16+J16+K16+L16+M16)*N16+(O16+P16+Q16+R16+S16+T16+U16)*V16 -> 0
B17: SKU | C17: BE057-BABYPINKMARLE-37 | D17: BE057-BABYPINKMARLE-42 | E17: BE057-BABYPINKMARLE-47 | F17: BE057-BABYPINKMARLE-50 | G17: BE057-BABYPINKMARLE-52 | I17: LG059-BABYPINKMARLE-47 | J17: LG059-BABYPINKMARLE-50 | K17: LG059-BABYPINKMARLE-52 | L17: LG059-BABYPINKMARLE-54 | M17: LG059-BABYPINKMARLE-56
B18: BABY BLUE MARLE | H18: 14.07 | N18: 0 | V18: 0 | W18: =(C18+D18+E18+F18+G18)*H18+(I18+J18+K18+L18+M18)*N18+(O18+P18+Q18+R18+S18+T18+U18)*V18 -> 0
B19: SKU | C19: BE057-BABYBLUEMARLE-37 | D19: BE057-BABYBLUEMARLE-42 | E19: BE057-BABYBLUEMARLE-47 | F19: BE057-BABYBLUEMARLE-50 | G19: BE057-BABYBLUEMARLE-52
B20: GREY MARLE | H20: 0 | N20: 15.89 | V20: 0 | W20: =(C20+D20+E20+F20+G20)*H20+(I20+J20+K20+L20+M20)*N20+(O20+P20+Q20+R20+S20+T20+U20)*V20 -> 0
B21: SKU | I21: LG059-GREYMARLE-47 | J21: LG059-GREYMARLE-50 | K21: LG059-GREYMARLE-52 | L21: LG059-GREYMARLE-54 | M21: LG059-GREYMARLE-56
C22: FLEECY WINTER BOOTIES | I22: BABY MITTENS | L22: FINGERLESS MITTENS | O22: FLEECE BUCKET
B23: Fleece - Mittens, Gloves, Booties
C24: 0-6 mt 10 cm | D24: 6-12 mt 12 cm | E24: 1-2 yrs 14 cm | F24: 2-3 yrs 16 cm | H24: Price ex GST | I24: 0-12 mt XS | J24: 1-2 yrs S | K24: Price ex GST | L24: 3-5 yr M | M24: 6-10 yrs L | N24: Price ex GST | O24: 0-3 mt 37 cm XXS | P24: 3-6 mt 42 cm XS | Q24: 6-12 mt 47 cm S | R24: 1-2 yr 50 cm M | S24: 2-3 yr 52 cm L | T24: 3-6 yr 54 cm XL | U24: 6-13 yr 56 cm XXL | V24: Price ex GST
B25: DENIM | H25: 15.89 | K25: 12.25 | N25: 13.16 | V25: 0 | W25: =(C25+D25+E25+F25+G25)*H25+(I25+J25)*K25+(L25+M25)*N25 -> 0
B26: SKU | C26: SH060-DENIM-10 | D26: SH060-DENIM-12 | E26: SH060-DENIM-14 | F26: SH060-DENIM-16 | I26: GL061-DENIM-XS | J26: GL061-DENIM-S | L26: GL062-DENIM-M | M26: GL062-DENIM-L | V26: 0
B27: BABY PINK MARLE | H27: 15.89 | K27: 12.25 | N27: 13.16 | V27: 0 | W27: =(C27+D27+E27+F27+G27)*H27+(I27+J27)*K27+(L27+M27)*N27 -> 0
B28: SKU | C28: SH060-BABYPINKMARLE-10 | D28: SH060-BABYPINKMARLE-12 | E28: SH060-BABYPINKMARLE-14 | F28: SH060-BABYPINKMARLE-16 | I28: GL061-BABYPINKMARLE-XS | J28: GL061-BABYPINKMARLE-S | L28: GL062-BABYPINKMARLE-M | M28: GL062-BABYPINKMARLE-L | V28: 0
B29: BABY BLUE MARLE | H29: 15.89 | K29: 12.25 | N29: 0 | V29: 0 | W29: =(C29+D29+E29+F29+G29)*H29+(I29+J29)*K29+(L29+M29)*N29 -> 0
B30: SKU | C30: SH060-BABYBLUEMARLE-10 | D30: SH060-BABYBLUEMARLE-12 | E30: SH060-BABYBLUEMARLE-14 | F30: SH060-BABYBLUEMARLE-16 | I30: GL061-BABYBLUEMARLE-XS | J30: GL061-BABYBLUEMARLE-S | V30: 0
B31: GREY MARLE | H31: 15.89 | K31: 12.25 | N31: 13.16 | V31: 0 | W31: =(C31+D31+E31+F31+G31)*H31+(I31+J31)*K31+(L31+M31)*N31 -> 0
B32: SKU | C32: SH060-GREYMARLE-10 | D32: SH060-GREYMARLE-12 | E32: SH060-GREYMARLE-14 | F32: SH060-GREYMARLE-16 | I32: GL061-GREYMARLE-XS | J32: GL061-GREYMARLE-S | L32: GL062-GREYMARLE-M | M32: GL062-GREYMARLE-L | V32: 0
B33: SHADOW | H33: 0 | K33: 0 | N33: 0 | V33: 18.16 | W33: =(O33+P33+Q33+R33+S33+T33+U33)*V33 -> 0
B34: SKU | O34: BU357-SHADOW-37 | P34: BU357-SHADOW-42 | Q34: BU357-SHADOW-47 | R34: BU357-SHADOW-50 | S34: BU357-SHADOW-52 | T34: BU357-SHADOW-54 | U34: BU357-SHADOW-56
B35: OATMEAL | H35: 0 | K35: 0 | N35: 0 | V35: 18.16 | W35: =(O35+P35+Q35+R35+S35+T35+U35)*V35 -> 0
B36: SKU | O36: BU357-OATMEAL-37 | P36: BU357-OATMEAL-42 | Q36: BU357-OATMEAL-47 | R36: BU357-OATMEAL-50 | S36: BU357-OATMEAL-52 | T36: BU357-OATMEAL-54 | U36: BU357-OATMEAL-56
B37: ROSEWOOD | H37: 0 | K37: 0 | N37: 0 | V37: 18.16 | W37: =(O37+P37+Q37+R37+S37+T37+U37)*V37 -> 0
B38: SKU | O38: BU357-ROSEWOOD-37 | P38: BU357-ROSEWOOD-42 | Q38: BU357-ROSEWOOD-47 | R38: BU357-ROSEWOOD-50 | S38: BU357-ROSEWOOD-52 | T38: BU357-ROSEWOOD-54 | U38: BU357-ROSEWOOD-56
V39: Total Fleece Order | W39: =SUM(W5:W38) -> 0
V40: GST Amount | W40: =(W39*1.1)-W39 -> 0
V41: Total | W41: =SUM(W39:W40) -> 0

Sheet Heritage
B2: STORE NAME: | C2: =Originals!C2 -> Insert your business name here
B4: Heritage - Reversible - Children
C5: LOUNGER (Flap hat) | H5: WANDERER (Panel Bucket) | M5: EXPLORER (Classic Bucket)
C6: 0-3 mt 38-42 cm XXS | D6: 3-6 mt 42-46 cm XS | E6: 6-12 mt 46-50 cm S | F6: 1-3 yr 50-54 cm M | G6: Price ex GST | H6: 6-12 mt 46-50 cm S | I6: 1-3 yr 50-54 cm M | J6: 3-6 yr 54-58 cm L | K6: 6-13 yr 58-62 cm XL | L6: Price ex GST | M6: 6-12 mt 46-50 cm S | N6: 1-3 yr 50-54 cm M | O6: 3-6 yr 54-58 cm L | P6: 6-13 yr 58-62 cm XL | Q6: Price ex GST | R6: Total ex GST
B7: FLYNN / FLAX | G7: 19.52 | L7: 22.7 | Q7: 22.7 | R7: =(C7+D7+E7+F7)*G7+(H7+I7+J7+K7)*L7+(M7+N7+O7+P7)*Q7 -> 0
B8: SKU | C8: HE-FH296-FLYNN-XXS | D8: HE-FH296-FLYNN-XS | E8: HE-FH296-FLYNN-S | F8: HE-FH296-FLYNN-M | H8: HE-PB298-FLYNN-S | I8: HE-PB298-FLYNN-M | J8: HE-PB298-FLYNN-L | K8: HE-PB298-FLYNN-XL | M8: HE-CB297-FLYNN-S | N8: HE-CB297-FLYNN-M | O8: HE-CB297-FLYNN-L | P8: HE-CB297-FLYNN-XL
B9: FINLEY / BLANC | G9: 19.52 | L9: 0 | Q9: 22.7 | R9: =(C9+D9+E9+F9)*G9+(H9+I9+J9+K9)*L9+(M9+N9+O9+P9)*Q9 -> 0
B10: SKU | C10: HE-FH228-FINLEY-XXS | D10: HE-FH228-FINLEY-XS | E10: HE-FH228-FINLEY-S | F10: HE-FH228-FINLEY-M | M10: HE-CB230-FINLEY-S | N10: HE-CB230-FINLEY-M | O10: HE-CB230-FINLEY-L | P10: HE-CB230-FINLEY-XL
B11: CHARLIE / INDIGO | G11: 19.52 | L11: 0 | Q11: 22.7 | R11: =(C11+D11+E11+F11)*G11+(H11+I11+J11+K11)*L11+(M11+N11+O11+P11)*Q11 -> 0
B12: SKU | C12: HE-FH228-CHARLIE-XXS | D12: HE-FH228-CHARLIE-XS | E12: HE-FH228-CHARLIE-S | F12: HE-FH228-CHARLIE-M | M12: HE-CB230-CHARLIE-S | N12: HE-CB230-CHARLIE-M | O12: HE-CB230-CHARLIE-L | P12: HE-CB230-CHARLIE-XL
B13: BOBBIE / EBONY | G13: 0 | L13: 0 | Q13: 22.7 | R13: =(C13+D13+E13+F13)*G13+(H13+I13+J13+K13)*L13+(M13+N13+O13+P13)*Q13 -> 0
B14: SKU | M14: HE-CB230-BOBBIE-S | N14: HE-CB230-BOBBIE-M | O14: HE-CB230-BOBBIE-L | P14: HE-CB230-BOBBIE-XL
C15: SEEKER (Bonnet) | H15: SEARCHER (Ruffle Bonnet) | M15: ROAMER (Earred Flap Hat)
C16: 0-3 mt 38-42 cm XXS | D16: 3-6 mt 42-46 cm XS | E16: 6-12 mt 46-50 cm S | F16: 1-3 yr 50-54 cm M | G16: Price ex GST | H16: 0-3 mt 38-42 cm XXS | I16: 3-6 mt 42-46 cm XS | J16: 6-12 mt 46-50 cm S | K16: 1-3 yr 50-54 cm M | L16: Price ex GST | M16: 0-3 mt 38-42 cm XXS | N16: 3-6 mt 42-46 cm XS | O16: 6-12 mt 46-50 cm S | P16: 1-3 yr 50-54 cm M | Q16: Price ex GST | R16: Total ex GST
B17: FLYNN / FLAX | G17: 16.8 | L17: 0 | Q17: 0 | R17: =(C17+D17+E17+F17)*G17+(H17+I17+J17+K17)*L17+(M17+N17+O17+P17)*Q17 -> 0
B18: SKU | C18: HE-BN294-FLYNN-XXS | D18: HE-BN294-FLYNN-XS | E18: HE-BN294-FLYNN-S | F18: HE-BN294-FLYNN-M
B19: FINLEY / BLANC | G19: 16.8 | L19: 0 | Q19: 0 | R19: =(C19+D19+E19+F19)*G19+(H19+I19+J19+K19)*L19+(M19+N19+O19+P19)*Q19 -> 0
B20: SKU | C20: HE-BN231-FINLEY-XXS | D20: HE-BN231-FINLEY-XS | E20: HE-BN231-FINLEY-S | F20: HE-BN231-FINLEY-M
B21: CHARLIE / INDIGO | G21: 16.8 | L21: 0 | Q21: 0 | R21: =(C21+D21+E21+F21)*G21+(H21+I21+J21+K21)*L21+(M21+N21+O21+P21)*Q21 -> 0
B22: SKU | C22: HE-BN231-CHARLIE-XXS | D22: HE-BN231-CHARLIE-XS | E22: HE-BN231-CHARLIE-S | F22: HE-BN231-CHARLIE-M
B23: STEELE / FLAX | G23: 0 | L23: 0 | Q23: 19.52 | R23: =(C23+D23+E23+F23)*G23+(H23+I23+J23+K23)*L23+(M23+N23+O23+P23)*Q23 -> 0
B24: SKU | M24: HE-FT222-STEELE-XXS | N24: HE-FT222-STEELE-XS | O24: HE-FT222-STEELE-S | P24: HE-FT222-STEELE-M
B25: ROSA / FLAX | G25: 0 | L25: 0 | Q25: 19.52 | R25: =(C25+D25+E25+F25)*G25+(H25+I25+J25+K25)*L25+(M25+N25+O25+P25)*Q25 -> 0
B26: SKU | M26: HE-FT222-ROSA-XXS | N26: HE-FT222-ROSA-XS | O26: HE-FT222-ROSA-S | P26: HE-FT222-ROSA-M
B27: MAIZE / FLAX | G27: 0 | L27: 0 | Q27: 19.52 | R27: =(C27+D27+E27+F27)*G27+(H27+I27+J27+K27)*L27+(M27+N27+O27+P27)*Q27 -> 0
B28: SKU | M28: HE-FT222-MAIZE-XXS | N28: HE-FT222-MAIZE-XS | O28: HE-FT222-MAIZE-S | P28: HE-FT222-MAIZE-M
B29: VIOLA / FLAX | G29: 0 | L29: 0 | Q29: 19.52 | R29: =(C29+D29+E29+F29)*G29+(H29+I29+J29+K29)*L29+(M29+N29+O29+P29)*Q29 -> 0
B30: SKU | M30: HE-FT222-VIOLA-XXS | N30: HE-FT222-VIOLA-XS | O30: HE-FT222-VIOLA-S | P30: HE-FT222-VIOLA-M
B31: Heritage - Reversible - Adult
C32: VACATIONER (Ladies) | H32: VOYAGER (Ladies Wide Brimmed Visor) | M32: BOWTIE CAP (Ladies silk lined cap) NEW
C33: 52-56 cm S | D33: 56-60 cm M | E33: 60-64 cm L | F33: 64-68 cm XL | G33: Price ex GST | H33: 52-56 cm S | I33: 56-60 cm M | J33: 60-64 cm L | K33: 64-68 cm XL | L33: Price ex GST | M33: 60 cm M | R33: Total ex GST
B34: FLYNN / FLAX | G34: 27.25 | L34: 25.43 | R34: =(C34+D34+E34+F34)*G34+(H34+I34+J34+K34)*L34 -> 0
B35: SKU | C35: HE-LD300-FLYNN-S | D35: HE-LD300-FLYNN-M | E35: HE-LD300-FLYNN-L | F35: HE-LD300-FLYNN-XL | H35: HE-VS301-FLYNN-S | I35: HE-VS301-FLYNN-M | J35: HE-VS301-FLYNN-L | K35: HE-VS301-FLYNN-XL
B36: FINLEY / BLANC | G36: 27.25 | L36: 25.43 | R36: =(C36+D36+E36+F36)*G36+(H36+I36+J36+K36)*L36 -> 0
B37: SKU | C37: HE-LD226-FINLEY-S | D37: HE-LD226-FINLEY-M | E37: HE-LD226-FINLEY-L | F37: HE-LD226-FINLEY-XL | H37: HE-VS224-FINLEY-S | I37: HE-VS224-FINLEY-M | J37: HE-VS224-FINLEY-L | K37: HE-VS224-FINLEY-XL
B38: CHARLIE / INDIGO | G38: 27.25 | L38: 25.43 | R38: =(C38+D38+E38+F38)*G38+(H38+I38+J38+K38)*L38 -> 0
B39: SKU | C39: HE-LD226-CHARLIE-S | D39: HE-LD226-CHARLIE-M | E39: HE-LD226-CHARLIE-L | F39: HE-LD226-CHARLIE-XL | H39: HE-VS224-CHARLIE-S | I39: HE-VS224-CHARLIE-M | J39: HE-VS224-CHARLIE-L | K39: HE-VS224-CHARLIE-XL
B40: BOBBIE / EBONY | G40: 27.25 | L40: 25.43 | R40: =(C40+D40+E40+F40)*G40+(H40+I40+J40+K40)*L40 -> 0
B41: SKU | C41: HE-LD226-BOBBIE-S | D41: HE-LD226-BOBBIE-M | E41: HE-LD226-BOBBIE-L | F41: HE-LD226-BOBBIE-XL | H41: HE-VS224-BOBBIE-S | I41: HE-VS224-BOBBIE-M | J41: HE-VS224-BOBBIE-L | K41: HE-VS224-BOBBIE-XL | Q41: 22.7
B42: EBONY | G42: 0 | L42: 0 | Q42: 22.7 | R42: =(C42+D42+E42+F42)*G42+(H42+I42+J42+K42)*L42+(M42+N42+O42+P42)*Q42 -> 0
...

Sheet IMPORTANT - Order Summary
B2: Order Summary
B4: If your order is over $1100 you are eligible for 50% 30 days credit.
D6: Autumn / Winter
D7: Mid-February
B8: Originals | D8: =Originals!U91 -> 0
B9: Fleece | D9: =Fleece!W41 -> 0
B10: Heritage | D10: =Heritage!R63 -> 0
B11: TOTAL | D11: =SUM(D8:D10) -> 0
B12: Pay 50% for dispatch. Balance due 30 days later* | D12: =D11/2 -> 0

Sheet Tally
C1: Collection | D1: Core/Print
A2: BB055-BABYBLUE-37 | B2: =SUM(H2:X2) -> 0 | C2: Originals | D2: Core | H2: {=IF(ISNA(INDEX(Originals!$C$7:$C$88,MATCH($A2,Originals!$C$7:$C$88,0)-1,1)),0,INDEX(Originals!$C$7:$C$88,MATCH($A2,Originals!$C$7:$C$88,0)-1,1))} -> 0 | I2: {=IF(ISNA(INDEX(Originals!$D$7:$D$88,MATCH($A2,Originals!$D$7:$D$88,0)-1,1)),0,INDEX(Originals!$D$7:$D$88,MATCH($A2,Originals!$D$7:$D$88,0)-1,1))} -> 0 | J2: {=IF(ISNA(INDEX(Originals!$E$7:$E$88,MATCH($A2,Originals!$E$7:$E$88,0)-1,1)),0,INDEX(Originals!$E$7:$E$88,MATCH($A2,Originals!$E$7:$E$88,0)-1,1))} -> 0 | K2: {=IF(ISNA(INDEX(Originals!$F$7:$F$88,MATCH($A2,Originals!$F$7:$F$88,0)-1,1)),0,INDEX(Originals!$F$7:$F$88,MATCH($A2,Originals!$F$7:$F$88,0)-1,1))} -> 0 | L2: {=IF(ISNA(INDEX(Originals!$G$7:$G$88,MATCH($A2,Originals!$G$7:$G$88,0)-1,1)),0,INDEX(Originals!$G$7:$G$88,MATCH($A2,Originals!$G$7:$G$88,0)-1,1))} -> 0 | M2: {=IF(ISNA(INDEX(Originals!$H$7:$H$88,MATCH($A2,Originals!$H$7:$H$88,0)-1,1)),0,INDEX(Originals!$H$7:$H$88,MATCH($A2,Originals!$H$7:$H$88,0)-1,1))} -> 0 | N2: {=IF(ISNA(INDEX(Originals!$J$7:$J$88,MATCH($A2,Originals!$J$7:$J$88,0)-1,1)),0,INDEX(Originals!$J$7:$J$88,MATCH($A2,Originals!$J$7:$J$88,0)-1,1))} -> 0 | O2: {=IF(ISNA(INDEX(Originals!$K$7:$K$88,MATCH($A2,Originals!$K$7:$K$88,0)-1,1)),0,INDEX(Originals!$K$7:$K$88,MATCH($A2,Originals!$K$7:$K$88,0)-1,1))} -> 0 | P2: {=IF(ISNA(INDEX(Originals!$L$7:$L$88,MATCH($A2,Originals!$L$7:$L$88,0)-1,1)),0,INDEX(Originals!$L$7:$L$88,MATCH($A2,Originals!$L$7:$L$88,0)-1,1))} -> 0 | Q2: {=IF(ISNA(INDEX(Originals!$M$7:$M$88,MATCH($A2,Originals!$M$7:$M$88,0)-1,1)),0,INDEX(Originals!$M$7:$M$88,MATCH($A2,Originals!$M$7:$M$88,0)-1,1))} -> 0 | R2: {=IF(ISNA(INDEX(Originals!$N$7:$N$88,MATCH($A2,Originals!$N$7:$N$88,0)-1,1)),0,INDEX(Originals!$N$7:$N$88,MATCH($A2,Originals!$N$7:$N$88,0)-1,1))} -> 0 | S2: {=IF(ISNA(INDEX(Originals!$P$7:$P$88,MATCH($A2,Originals!$P$7:$P$88,0)-1,1)),0,INDEX(Originals!$P$7:$P$88,MATCH($A2,Originals!$P$7:$P$88,0)-1,1))} -> 0 | T2: {=IF(ISNA(INDEX(Originals!$Q$7:$Q$88,MATCH($A2,Originals!$Q$7:$Q$88,0)-1,1)),0,INDEX(Originals!$Q$7:$Q$88,MATCH($A2,Originals!$Q$7:$Q$88,0)-1,1))} -> 0 | U2: {=IF(ISNA(INDEX(Originals!$R$7:$R$88,MATCH($A2,Originals!$R$7:$R$88,0)-1,1)),0,INDEX(Originals!$R$7:$R$88,MATCH($A2,Originals!$R$7:$R$88,0)-1,1))} -> 0 | V2: {=IF(ISNA(INDEX(Originals!$S$7:$S$88,MATCH($A2,Originals!$S$7:$S$88,0)-1,1)),0,INDEX(Originals!$S$7:$S$88,MATCH($A2,Originals!$S$7:$S$88,0)-1,1))} -> 0
A3: BB055-BABYBLUE-42 | B3: =SUM(H3:X3) -> 0 | C3: Originals | D3: Core | H3: {=IF(ISNA(INDEX(Originals!$C$7:$C$88,MATCH($A3,Originals!$C$7:$C$88,0)-1,1)),0,INDEX(Originals!$C$7:$C$88,MATCH($A3,Originals!$C$7:$C$88,0)-1,1))} -> 0 | I3: {=IF(ISNA(INDEX(Originals!$D$7:$D$88,MATCH($A3,Originals!$D$7:$D$88,0)-1,1)),0,INDEX(Originals!$D$7:$D$88,MATCH($A3,Originals!$D$7:$D$88,0)-1,1))} -> 0 | J3: {=IF(ISNA(INDEX(Originals!$E$7:$E$88,MATCH($A3,Originals!$E$7:$E$88,0)-1,1)),0,INDEX(Originals!$E$7:$E$88,MATCH($A3,Originals!$E$7:$E$88,0)-1,1))} -> 0 | K3: {=IF(ISNA(INDEX(Originals!$F$7:$F$88,MATCH($A3,Originals!$F$7:$F$88,0)-1,1)),0,INDEX(Originals!$F$7:$F$88,MATCH($A3,Originals!$F$7:$F$88,0)-1,1))} -> 0 | L3: {=IF(ISNA(INDEX(Originals!$G$7:$G$88,MATCH($A3,Originals!$G$7:$G$88,0)-1,1)),0,INDEX(Originals!$G$7:$G$88,MATCH($A3,Originals!$G$7:$G$88,0)-1,1))} -> 0 | M3: {=IF(ISNA(INDEX(Originals!$H$7:$H$88,MATCH($A3,Originals!$H$7:$H$88,0)-1,1)),0,INDEX(Originals!$H$7:$H$88,MATCH($A3,Originals!$H$7:$H$88,0)-1,1))} -> 0 | N3: {=IF(ISNA(INDEX(Originals!$J$7:$J$88,MATCH($A3,Originals!$J$7:$J$88,0)-1,1)),0,INDEX(Originals!$J$7:$J$88,MATCH($A3,Originals!$J$7:$J$88,0)-1,1))} -> 0 | O3: {=IF(ISNA(INDEX(Originals!$K$7:$K$88,MATCH($A3,Originals!$K$7:$K$88,0)-1,1)),0,INDEX(Originals!$K$7:$K$88,MATCH($A3,Originals!$K$7:$K$88,0)-1,1))} -> 0 | P3: {=IF(ISNA(INDEX(Originals!$L$7:$L$88,MATCH($A3,Originals!$L$7:$L$88,0)-1,1)),0,INDEX(Originals!$L$7:$L$88,MATCH($A3,Originals!$L$7:$L$88,0)-1,1))} -> 0 | Q3: {=IF(ISNA(INDEX(Originals!$M$7:$M$88,MATCH($A3,Originals!$M$7:$M$88,0)-1,1)),0,INDEX(Originals!$M$7:$M$88,MATCH($A3,Originals!$M$7:$M$88,0)-1,1))} -> 0 | R3: {=IF(ISNA(INDEX(Originals!$N$7:$N$88,MATCH($A3,Originals!$N$7:$N$88,0)-1,1)),0,INDEX(Originals!$N$7:$N$88,MATCH($A3,Originals!$N$7:$N$88,0)-1,1))} -> 0 | S3: {=IF(ISNA(INDEX(Originals!$P$7:$P$88,MATCH($A3,Originals!$P$7:$P$88,0)-1,1)),0,INDEX(Originals!$P$7:$P$88,MATCH($A3,Originals!$P$7:$P$88,0)-1,1))} -> 0 | T3: {=IF(ISNA(INDEX(Originals!$Q$7:$Q$88,MATCH($A3,Originals!$Q$7:$Q$88,0)-1,1)),0,INDEX(Originals!$Q$7:$Q$88,MATCH($A3,Originals!$Q$7:$Q$88,0)-1,1))} -> 0 | U3: {=IF(ISNA(INDEX(Originals!$R$7:$R$88,MATCH($A3,Originals!$R$7:$R$88,0)-1,1)),0,INDEX(Originals!$R$7:$R$88,MATCH($A3,Originals!$R$7:$R$88,0)-1,1))} -> 0 | V3: {=IF(ISNA(INDEX(Originals!$S$7:$S$88,MATCH($A3,Originals!$S$7:$S$88,0)-1,1)),0,INDEX(Originals!$S$7:$S$88,MATCH($A3,Originals!$S$7:$S$88,0)-1,1))} -> 0
A4: BB055-BABYBLUE-47 | B4: =SUM(H4:X4) -> 0 | C4: Originals | D4: Core | H4: {=IF(ISNA(INDEX(Originals!$C$7:$C$88,MATCH($A4,Originals!$C$7:$C$88,0)-1,1)),0,INDEX(Originals!$C$7:$C$88,MATCH($A4,Originals!$C$7:$C$88,0)-1,1))} -> 0 | I4: {=IF(ISNA(INDEX(Originals!$D$7:$D$88,MATCH($A4,Originals!$D$7:$D$88,0)-1,1)),0,INDEX(Originals!$D$7:$D$88,MATCH($A4,Originals!$D$7:$D$88,0)-1,1))} -> 0 | J4: {=IF(ISNA(INDEX(Originals!$E$7:$E$88,MATCH($A4,Originals!$E$7:$E$88,0)-1,1)),0,INDEX(Originals!$E$7:$E$88,MATCH($A4,Originals!$E$7:$E$88,0)-1,1))} -> 0 | K4: {=IF(ISNA(INDEX(Originals!$F$7:$F$88,MATCH($A4,Originals!$F$7:$F$88,0)-1,1)),0,INDEX(Originals!$F$7:$F$88,MATCH($A4,Originals!$F$7:$F$88,0)-1,1))} -> 0 | L4: {=IF(ISNA(INDEX(Originals!$G$7:$G$88,MATCH($A4,Originals!$G$7:$G$88,0)-1,1)),0,INDEX(Originals!$G$7:$G$88,MATCH($A4,Originals!$G$7:$G$88,0)-1,1))} -> 0 | M4: {=IF(ISNA(INDEX(Originals!$H$7:$H$88,MATCH($A4,Originals!$H$7:$H$88,0)-1,1)),0,INDEX(Originals!$H$7:$H$88,MATCH($A4,Originals!$H$7:$H$88,0)-1,1))} -> 0 | N4: {=IF(ISNA(INDEX(Originals!$J$7:$J$88,MATCH($A4,Originals!$J$7:$J$88,0)-1,1)),0,INDEX(Originals!$J$7:$J$88,MATCH($A4,Originals!$J$7:$J$88,0)-1,1))} -> 0 | O4: {=IF(ISNA(INDEX(Originals!$K$7:$K$88,MATCH($A4,Originals!$K$7:$K$88,0)-1,1)),0,INDEX(Originals!$K$7:$K$88,MATCH($A4,Originals!$K$7:$K$88,0)-1,1))} -> 0 | P4: {=IF(ISNA(INDEX(Originals!$L$7:$L$88,MATCH($A4,Originals!$L$7:$L$88,0)-1,1)),0,INDEX(Originals!$L$7:$L$88,MATCH($A4,Originals!$L$7:$L$88,0)-1,1))} -> 0 | Q4: {=IF(ISNA(INDEX(Originals!$M$7:$M$88,MATCH($A4,Originals!$M$7:$M$88,0)-1,1)),0,INDEX(Originals!$M$7:$M$88,MATCH($A4,Originals!$M$7:$M$88,0)-1,1))} -> 0 | R4: {=IF(ISNA(INDEX(Originals!$N$7:$N$88,MATCH($A4,Originals!$N$7:$N$88,0)-1,1)),0,INDEX(Originals!$N$7:$N$88,MATCH($A4,Originals!$N$7:$N$88,0)-1,1))} -> 0 | S4: {=IF(ISNA(INDEX(Originals!$P$7:$P$88,MATCH($A4,Originals!$P$7:$P$88,0)-1,1)),0,INDEX(Originals!$P$7:$P$88,MATCH($A4,Originals!$P$7:$P$88,0)-1,1))} -> 0 | T4: {=IF(ISNA(INDEX(Originals!$Q$7:$Q$88,MATCH($A4,Originals!$Q$7:$Q$88,0)-1,1)),0,INDEX(Originals!$Q$7:$Q$88,MATCH($A4,Originals!$Q$7:$Q$88,0)-1,1))} -> 0 | U4: {=IF(ISNA(INDEX(Originals!$R$7:$R$88,MATCH($A4,Originals!$R$7:$R$88,0)-1,1)),0,INDEX(Originals!$R$7:$R$88,MATCH($A4,Originals!$R$7:$R$88,0)-1,1))} -> 0 | V4: {=IF(ISNA(INDEX(Originals!$S$7:$S$88,MATCH($A4,Originals!$S$7:$S$88,0)-1,1)),0,INDEX(Originals!$S$7:$S$88,MATCH($A4,Originals!$S$7:$S$88,0)-1,1))} -> 0
A5: BB055-BABYBLUE-50 | B5: =SUM(H5:X5) -> 0 | C5: Originals | D5: Core | H5: {=IF(ISNA(INDEX(Originals!$C$7:$C$88,MATCH($A5,Originals!$C$7:$C$88,0)-1,1)),0,INDEX(Originals!$C$7:$C$88,MATCH($A5,Originals!$C$7:$C$88,0)-1,1))} -> 0 | I5: {=IF(ISNA(INDEX(Originals!$D$7:$D$88,MATCH($A5,Originals!$D$7:$D$88,0)-1,1)),0,INDEX(Originals!$D$7:$D$88,MATCH($A5,Originals!$D$7:$D$88,0)-1,1))} -> 0 | J5: {=IF(ISNA(INDEX(Originals!$E$7:$E$88,MATCH($A5,Originals!$E$7:$E$88,0)-1,1)),0,INDEX(Originals!$E$7:$E$88,MATCH($A5,Originals!$E$7:$E$88,0)-1,1))} -> 0 | K5: {=IF(ISNA(INDEX(Originals!$F$7:$F$88,MATCH($A5,Originals!$F$7:$F$88,0)-1,1)),0,INDEX(Originals!$F$7:$F$88,MATCH($A5,Originals!$F$7:$F$88,0)-1,1))} -> 0 | L5: {=IF(ISNA(INDEX(Originals!$G$7:$G$88,MATCH($A5,Originals!$G$7:$G$88,0)-1,1)),0,INDEX(Originals!$G$7:$G$88,MATCH($A5,Originals!$G$7:$G$88,0)-1,1))} -> 0 | M5: {=IF(ISNA(INDEX(Originals!$H$7:$H$88,MATCH($A5,Originals!$H$7:$H$88,0)-1,1)),0,INDEX(Originals!$H$7:$H$88,MATCH($A5,Originals!$H$7:$H$88,0)-1,1))} -> 0 | N5: {=IF(ISNA(INDEX(Originals!$J$7:$J$88,MATCH($A5,Originals!$J$7:$J$88,0)-1,1)),0,INDEX(Originals!$J$7:$J$88,MATCH($A5,Originals!$J$7:$J$88,0)-1,1))} -> 0 | O5: {=IF(ISNA(INDEX(Originals!$K$7:$K$88,MATCH($A5,Originals!$K$7:$K$88,0)-1,1)),0,INDEX(Originals!$K$7:$K$88,MATCH($A5,Originals!$K$7:$K$88,0)-1,1))} -> 0 | P5: {=IF(ISNA(INDEX(Originals!$L$7:$L$88,MATCH($A5,Originals!$L$7:$L$88,0)-1,1)),0,INDEX(Originals!$L$7:$L$88,MATCH($A5,Originals!$L$7:$L$88,0)-1,1))} -> 0 | Q5: {=IF(ISNA(INDEX(Originals!$M$7:$M$88,MATCH($A5,Originals!$M$7:$M$88,0)-1,1)),0,INDEX(Originals!$M$7:$M$88,MATCH($A5,Originals!$M$7:$M$88,0)-1,1))} -> 0 | R5: {=IF(ISNA(INDEX(Originals!$N$7:$N$88,MATCH($A5,Originals!$N$7:$N$88,0)-1,1)),0,INDEX(Originals!$N$7:$N$88,MATCH($A5,Originals!$N$7:$N$88,0)-1,1))} -> 0 | S5: {=IF(ISNA(INDEX(Originals!$P$7:$P$88,MATCH($A5,Originals!$P$7:$P$88,0)-1,1)),0,INDEX(Originals!$P$7:$P$88,MATCH($A5,Originals!$P$7:$P$88,0)-1,1))} -> 0 | T5: {=IF(ISNA(INDEX(Originals!$Q$7:$Q$88,MATCH($A5,Originals!$Q$7:$Q$88,0)-1,1)),0,INDEX(Originals!$Q$7:$Q$88,MATCH($A5,Originals!$Q$7:$Q$88,0)-1,1))} -> 0 | U5: {=IF(ISNA(INDEX(Originals!$R$7:$R$88,MATCH($A5,Originals!$R$7:$R$88,0)-1,1)),0,INDEX(Originals!$R$7:$R$88,MATCH($A5,Originals!$R$7:$R$88,0)-1,1))} -> 0 | V5: {=IF(ISNA(INDEX(Originals!$S$7:$S$88,MATCH($A5,Originals!$S$7:$S$88,0)-1,1)),0,INDEX(Originals!$S$7:$S$88,MATCH($A5,Originals!$S$7:$S$88,0)-1,1))} -> 0
A6: BB055-BABYBLUE-52 | B6: =SUM(H6:X6) -> 0 | C6: Originals | D6: Core | H6: {=IF(ISNA(INDEX(Originals!$C$7:$C$88,MATCH($A6,Originals!$C$7:$C$88,0)-1,1)),0,INDEX(Originals!$C$7:$C$88,MATCH($A6,Originals!$C$7:$C$88,0)-1,1))} -> 0 | I6: {=IF(ISNA(INDEX(Originals!$D$7:$D$88,MATCH($A6,Originals!$D$7:$D$88,0)-1,1)),0,INDEX(Originals!$D$7:$D$88,MATCH($A6,Originals!$D$7:$D$88,0)-1,1))} -> 0 | J6: {=IF(ISNA(INDEX(Originals!$E$7:$E$88,MATCH($A6,Originals!$E$7:$E$88,0)-1,1)),0,INDEX(Originals!$E$7:$E$88,MATCH($A6,Originals!$E$7:$E$88,0)-1,1))} -> 0 | K6: {=IF(ISNA(INDEX(Originals!$F$7:$F$88,MATCH($A6,Originals!$F$7:$F$88,0)-1,1)),0,INDEX(Originals!$F$7:$F$88,MATCH($A6,Originals!$F$7:$F$88,0)-1,1))} -> 0 | L6: {=IF(ISNA(INDEX(Originals!$G$7:$G$88,MATCH($A6,Originals!$G$7:$G$88,0)-1,1)),0,INDEX(Originals!$G$7:$G$88,MATCH($A6,Originals!$G$7:$G$88,0)-1,1))} -> 0 | M6: {=IF(ISNA(INDEX(Originals!$H$7:$H$88,MATCH($A6,Originals!$H$7:$H$88,0)-1,1)),0,INDEX(Originals!$H$7:$H$88,MATCH($A6,Originals!$H$7:$H$88,0)-1,1))} -> 0 | N6: {=IF(ISNA(INDEX(Originals!$J$7:$J$88,MATCH($A6,Originals!$J$7:$J$88,0)-1,1)),0,INDEX(Originals!$J$7:$J$88,MATCH($A6,Originals!$J$7:$J$88,0)-1,1))} -> 0 | O6: {=IF(ISNA(INDEX(Originals!$K$7:$K$88,MATCH($A6,Originals!$K$7:$K$88,0)-1,1)),0,INDEX(Originals!$K$7:$K$88,MATCH($A6,Originals!$K$7:$K$88,0)-1,1))} -> 0 | P6: {=IF(ISNA(INDEX(Originals!$L$7:$L$88,MATCH($A6,Originals!$L$7:$L$88,0)-1,1)),0,INDEX(Originals!$L$7:$L$88,MATCH($A6,Originals!$L$7:$L$88,0)-1,1))} -> 0 | Q6: {=IF(ISNA(INDEX(Originals!$M$7:$M$88,MATCH($A6,Originals!$M$7:$M$88,0)-1,1)),0,INDEX(Originals!$M$7:$M$88,MATCH($A6,Originals!$M$7:$M$88,0)-1,1))} -> 0 | R6: {=IF(ISNA(INDEX(Originals!$N$7:$N$88,MATCH($A6,Originals!$N$7:$N$88,0)-1,1)),0,INDEX(Originals!$N$7:$N$88,MATCH($A6,Originals!$N$7:$N$88,0)-1,1))} -> 0 | S6: {=IF(ISNA(INDEX(Originals!$P$7:$P$88,MATCH($A6,Originals!$P$7:$P$88,0)-1,1)),0,INDEX(Originals!$P$7:$P$88,MATCH($A6,Originals!$P$7:$P$88,0)-1,1))} -> 0 | T6: {=IF(ISNA(INDEX(Originals!$Q$7:$Q$88,MATCH($A6,Originals!$Q$7:$Q$88,0)-1,1)),0,INDEX(Originals!$Q$7:$Q$88,MATCH($A6,Originals!$Q$7:$Q$88,0)-1,1))} -> 0 | U6: {=IF(ISNA(INDEX(Originals!$R$7:$R$88,MATCH($A6,Originals!$R$7:$R$88,0)-1,1)),0,INDEX(Originals!$R$7:$R$88,MATCH($A6,Originals!$R$7:$R$88,0)-1,1))} -> 0 | V6: {=IF(ISNA(INDEX(Originals!$S$7:$S$88,MATCH($A6,Originals!$S$7:$S$88,0)-1,1)),0,INDEX(Originals!$S$7:$S$88,MATCH($A6,Originals!$S$7:$S$88,0)-1,1))} -> 0
A7: BB055-BLUSH-37 | B7: =SUM(H7:X7) -> 0 | C7: Originals | D7: Core | H7: {=IF(ISNA(INDEX(Originals!$C$7:$C$88,MATCH($A7,Originals!$C$7:$C$88,0)-1,1)),0,INDEX(Originals!$C$7:$C$88,MATCH($A7,Originals!$C$7:$C$88,0)-1,1))} -> 0 | I7: {=IF(ISNA(INDEX(Originals!$D$7:$D$88,MATCH($A7,Originals!$D$7:$D$88,0)-1,1)),0,INDEX(Originals!$D$7:$D$88,MATCH($A7,Originals!$D$7:$D$88,0)-1,1))} -> 0 | J7: {=IF(ISNA(INDEX(Originals!$E$7:$E$88,MATCH($A7,Originals!$E$7:$E$88,0)-1,1)),0,INDEX(Originals!$E$7:$E$88,MATCH($A7,Originals!$E$7:$E$88,0)-1,1))} -> 0 | K7: {=IF(ISNA(INDEX(Originals!$F$7:$F$88,MATCH($A7,Originals!$F$7:$F$88,0)-1,1)),0,INDEX(Originals!$F$7:$F$88,MATCH($A7,Originals!$F$7:$F$88,0)-1,1))} -> 0 | L7: {=IF(ISNA(INDEX(Originals!$G$7:$G$88,MATCH($A7,Originals!$G$7:$G$88,0)-1,1)),0,INDEX(Originals!$G$7:$G$88,MATCH($A7,Originals!$G$7:$G$88,0)-1,1))} -> 0 | M7: {=IF(ISNA(INDEX(Originals!$H$7:$H$88,MATCH($A7,Originals!$H$7:$H$88,0)-1,1)),0,INDEX(Originals!$H$7:$H$88,MATCH($A7,Originals!$H$7:$H$88,0)-1,1))} -> 0 | N7: {=IF(ISNA(INDEX(Originals!$J$7:$J$88,MATCH($A7,Originals!$J$7:$J$88,0)-1,1)),0,INDEX(Originals!$J$7:$J$88,MATCH($A7,Originals!$J$7:$J$88,0)-1,1))} -> 0 | O7: {=IF(ISNA(INDEX(Originals!$K$7:$K$88,MATCH($A7,Originals!$K$7:$K$88,0)-1,1)),0,INDEX(Originals!$K$7:$K$88,MATCH($A7,Originals!$K$7:$K$88,0)-1,1))} -> 0 | P7: {=IF(ISNA(INDEX(Originals!$L$7:$L$88,MATCH($A7,Originals!$L$7:$L$88,0)-1,1)),0,INDEX(Originals!$L$7:$L$88,MATCH($A7,Originals!$L$7:$L$88,0)-1,1))} -> 0 | Q7: {=IF(ISNA(INDEX(Originals!$M$7:$M$88,MATCH($A7,Originals!$M$7:$M$88,0)-1,1)),0,INDEX(Originals!$M$7:$M$88,MATCH($A7,Originals!$M$7:$M$88,0)-1,1))} -> 0 | R7: {=IF(ISNA(INDEX(Originals!$N$7:$N$88,MATCH($A7,Originals!$N$7:$N$88,0)-1,1)),0,INDEX(Originals!$N$7:$N$88,MATCH($A7,Originals!$N$7:$N$88,0)-1,1))} -> 0 | S7: {=IF(ISNA(INDEX(Originals!$P$7:$P$88,MATCH($A7,Originals!$P$7:$P$88,0)-1,1)),0,INDEX(Originals!$P$7:$P$88,MATCH($A7,Originals!$P$7:$P$88,0)-1,1))} -> 0 | T7: {=IF(ISNA(INDEX(Originals!$Q$7:$Q$88,MATCH($A7,Originals!$Q$7:$Q$88,0)-1,1)),0,INDEX(Originals!$Q$7:$Q$88,MATCH($A7,Originals!$Q$7:$Q$88,0)-1,1))} -> 0 | U7: {=IF(ISNA(INDEX(Originals!$R$7:$R$88,MATCH($A7,Originals!$R$7:$R$88,0)-1,1)),0,INDEX(Originals!$R$7:$R$88,MATCH($A7,Originals!$R$7:$R$88,0)-1,1))} -> 0 | V7: {=IF(ISNA(INDEX(Originals!$S$7:$S$88,MATCH($A7,Originals!$S$7:$S$88,0)-1,1)),0,INDEX(Originals!$S$7:$S$88,MATCH($A7,Originals!$S$7:$S$88,0)-1,1))} -> 0
A8: BB055-BLUSH-42 | B8: =SUM(H8:X8) -> 0 | C8: Originals | D8: Core | H8: {=IF(ISNA(INDEX(Originals!$C$7:$C$88,MATCH($A8,Originals!$C$7:$C$88,0)-1,1)),0,INDEX(Originals!$C$7:$C$88,MATCH($A8,Originals!$C$7:$C$88,0)-1,1))} -> 0 | I8: {=IF(ISNA(INDEX(Originals!$D$7:$D$88,MATCH($A8,Originals!$D$7:$D$88,0)-1,1)),0,INDEX(Originals!$D$7:$D$88,MATCH($A8,Originals!$D$7:$D$88,0)-1,1))} -> 0 | J8: {=IF(ISNA(INDEX(Originals!$E$7:$E$88,MATCH($A8,Originals!$E$7:$E$88,0)-1,1)),0,INDEX(Originals!$E$7:$E$88,MATCH($A8,Originals!$E$7:$E$88,0)-1,1))} -> 0 | K8: {=IF(ISNA(INDEX(Originals!$F$7:$F$88,MATCH($A8,Originals!$F$7:$F$88,0)-1,1)),0,INDEX(Originals!$F$7:$F$88,MATCH($A8,Originals!$F$7:$F$88,0)-1,1))} -> 0 | L8: {=IF(ISNA(INDEX(Originals!$G$7:$G$88,MATCH($A8,Originals!$G$7:$G$88,0)-1,1)),0,INDEX(Originals!$G$7:$G$88,MATCH($A8,Originals!$G$7:$G$88,0)-1,1))} -> 0 | M8: {=IF(ISNA(INDEX(Originals!$H$7:$H$88,MATCH($A8,Originals!$H$7:$H$88,0)-1,1)),0,INDEX(Originals!$H$7:$H$88,MATCH($A8,Originals!$H$7:$H$88,0)-1,1))} -> 0 | N8: {=IF(ISNA(INDEX(Originals!$J$7:$J$88,MATCH($A8,Originals!$J$7:$J$88,0)-1,1)),0,INDEX(Originals!$J$7:$J$88,MATCH($A8,Originals!$J$7:$J$88,0)-1,1))} -> 0 | O8: {=IF(ISNA(INDEX(Originals!$K$7:$K$88,MATCH($A8,Originals!$K$7:$K$88,0)-1,1)),0,INDEX(Originals!$K$7:$K$88,MATCH($A8,Originals!$K$7:$K$88,0)-1,1))} -> 0 | P8: {=IF(ISNA(INDEX(Originals!$L$7:$L$88,MATCH($A8,Originals!$L$7:$L$88,0)-1,1)),0,INDEX(Originals!$L$7:$L$88,MATCH($A8,Originals!$L$7:$L$88,0)-1,1))} -> 0 | Q8: {=IF(ISNA(INDEX(Originals!$M$7:$M$88,MATCH($A8,Originals!$M$7:$M$88,0)-1,1)),0,INDEX(Originals!$M$7:$M$88,MATCH($A8,Originals!$M$7:$M$88,0)-1,1))} -> 0 | R8: {=IF(ISNA(INDEX(Originals!$N$7:$N$88,MATCH($A8,Originals!$N$7:$N$88,0)-1,1)),0,INDEX(Originals!$N$7:$N$88,MATCH($A8,Originals!$N$7:$N$88,0)-1,1))} -> 0 | S8: {=IF(ISNA(INDEX(Originals!$P$7:$P$88,MATCH($A8,Originals!$P$7:$P$88,0)-1,1)),0,INDEX(Originals!$P$7:$P$88,MATCH($A8,Originals!$P$7:$P$88,0)-1,1))} -> 0 | T8: {=IF(ISNA(INDEX(Originals!$Q$7:$Q$88,MATCH($A8,Originals!$Q$7:$Q$88,0)-1,1)),0,INDEX(Originals!$Q$7:$Q$88,MATCH($A8,Originals!$Q$7:$Q$88,0)-1,1))} -> 0 | U8: {=IF(ISNA(INDEX(Originals!$R$7:$R$88,MATCH($A8,Originals!$R$7:$R$88,0)-1,1)),0,INDEX(Originals!$R$7:$R$88,MATCH($A8,Originals!$R$7:$R$88,0)-1,1))} -> 0 | V8: {=IF(ISNA(INDEX(Originals!$S$7:$S$88,MATCH($A8,Originals!$S$7:$S$88,0)-1,1)),0,INDEX(Originals!$S$7:$S$88,MATCH($A8,Originals!$S$7:$S$88,0)-1,1))} -> 0
A9: BB055-BLUSH-47 | B9: =SUM(H9:X9) -> 0 | C9: Originals | D9: Core | H9: {=IF(ISNA(INDEX(Originals!$C$7:$C$88,MATCH($A9,Originals!$C$7:$C$88,0)-1,1)),0,INDEX(Originals!$C$7:$C$88,MATCH($A9,Originals!$C$7:$C$88,0)-1,1))} -> 0 | I9: {=IF(ISNA(INDEX(Originals!$D$7:$D$88,MATCH($A9,Originals!$D$7:$D$88,0)-1,1)),0,INDEX(Originals!$D$7:$D$88,MATCH($A9,Originals!$D$7:$D$88,0)-1,1))} -> 0 | J9: {=IF(ISNA(INDEX(Originals!$E$7:$E$88,MATCH($A9,Originals!$E$7:$E$88,0)-1,1)),0,INDEX(Originals!$E$7:$E$88,MATCH($A9,Originals!$E$7:$E$88,0)-1,1))} -> 0 | K9: {=IF(ISNA(INDEX(Originals!$F$7:$F$88,MATCH($A9,Originals!$F$7:$F$88,0)-1,1)),0,INDEX(Originals!$F$7:$F$88,MATCH($A9,Originals!$F$7:$F$88,0)-1,1))} -> 0 | L9: {=IF(ISNA(INDEX(Originals!$G$7:$G$88,MATCH($A9,Originals!$G$7:$G$88,0)-1,1)),0,INDEX(Originals!$G$7:$G$88,MATCH($A9,Originals!$G$7:$G$88,0)-1,1))} -> 0 | M9: {=IF(ISNA(INDEX(Originals!$H$7:$H$88,MATCH($A9,Originals!$H$7:$H$88,0)-1,1)),0,INDEX(Originals!$H$7:$H$88,MATCH($A9,Originals!$H$7:$H$88,0)-1,1))} -> 0 | N9: {=IF(ISNA(INDEX(Originals!$J$7:$J$88,MATCH($A9,Originals!$J$7:$J$88,0)-1,1)),0,INDEX(Originals!$J$7:$J$88,MATCH($A9,Originals!$J$7:$J$88,0)-1,1))} -> 0 | O9: {=IF(ISNA(INDEX(Originals!$K$7:$K$88,MATCH($A9,Originals!$K$7:$K$88,0)-1,1)),0,INDEX(Originals!$K$7:$K$88,MATCH($A9,Originals!$K$7:$K$88,0)-1,1))} -> 0 | P9: {=IF(ISNA(INDEX(Originals!$L$7:$L$88,MATCH($A9,Originals!$L$7:$L$88,0)-1,1)),0,INDEX(Originals!$L$7:$L$88,MATCH($A9,Originals!$L$7:$L$88,0)-1,1))} -> 0 | Q9: {=IF(ISNA(INDEX(Originals!$M$7:$M$88,MATCH($A9,Originals!$M$7:$M$88,0)-1,1)),0,INDEX(Originals!$M$7:$M$88,MATCH($A9,Originals!$M$7:$M$88,0)-1,1))} -> 0 | R9: {=IF(ISNA(INDEX(Originals!$N$7:$N$88,MATCH($A9,Originals!$N$7:$N$88,0)-1,1)),0,INDEX(Originals!$N$7:$N$88,MATCH($A9,Originals!$N$7:$N$88,0)-1,1))} -> 0 | S9: {=IF(ISNA(INDEX(Originals!$P$7:$P$88,MATCH($A9,Originals!$P$7:$P$88,0)-1,1)),0,INDEX(Originals!$P$7:$P$88,MATCH($A9,Originals!$P$7:$P$88,0)-1,1))} -> 0 | T9: {=IF(ISNA(INDEX(Originals!$Q$7:$Q$88,MATCH($A9,Originals!$Q$7:$Q$88,0)-1,1)),0,INDEX(Originals!$Q$7:$Q$88,MATCH($A9,Originals!$Q$7:$Q$88,0)-1,1))} -> 0 | U9: {=IF(ISNA(INDEX(Originals!$R$7:$R$88,MATCH($A9,Originals!$R$7:$R$88,0)-1,1)),0,INDEX(Originals!$R$7:$R$88,MATCH($A9,Originals!$R$7:$R$88,0)-1,1))} -> 0 | V9: {=IF(ISNA(INDEX(Originals!$S$7:$S$88,MATCH($A9,Originals!$S$7:$S$88,0)-1,1)),0,INDEX(Originals!$S$7:$S$88,MATCH($A9,Originals!$S$7:$S$88,0)-1,1))} -> 0
A10: BB055-BLUSH-50 | B10: =SUM(H10:X10) -> 0 | C10: Originals | D10: Core | H10: {=IF(ISNA(INDEX(Originals!$C$7:$C$88,MATCH($A10,Originals!$C$7:$C$88,0)-1,1)),0,INDEX(Originals!$C$7:$C$88,MATCH($A10,Originals!$C$7:$C$88,0)-1,1))} -> 0 | I10: {=IF(ISNA(INDEX(Originals!$D$7:$D$88,MATCH($A10,Originals!$D$7:$D$88,0)-1,1)),0,INDEX(Originals!$D$7:$D$88,MATCH($A10,Originals!$D$7:$D$88,0)-1,1))} -> 0 | J10: {=IF(ISNA(INDEX(Originals!$E$7:$E$88,MATCH($A10,Originals!$E$7:$E$88,0)-1,1)),0,INDEX(Originals!$E$7:$E$88,MATCH($A10,Originals!$E$7:$E$88,0)-1,1))} -> 0 | K10: {=IF(ISNA(INDEX(Originals!$F$7:$F$88,MATCH($A10,Originals!$F$7:$F$88,0)-1,1)),0,INDEX(Originals!$F$7:$F$88,MATCH($A10,Originals!$F$7:$F$88,0)-1,1))} -> 0 | L10: {=IF(ISNA(INDEX(Originals!$G$7:$G$88,MATCH($A10,Originals!$G$7:$G$88,0)-1,1)),0,INDEX(Originals!$G$7:$G$88,MATCH($A10,Originals!$G$7:$G$88,0)-1,1))} -> 0 | M10: {=IF(ISNA(INDEX(Originals!$H$7:$H$88,MATCH($A10,Originals!$H$7:$H$88,0)-1,1)),0,INDEX(Originals!$H$7:$H$88,MATCH($A10,Originals!$H$7:$H$88,0)-1,1))} -> 0 | N10: {=IF(ISNA(INDEX(Originals!$J$7:$J$88,MATCH($A10,Originals!$J$7:$J$88,0)-1,1)),0,INDEX(Originals!$J$7:$J$88,MATCH($A10,Originals!$J$7:$J$88,0)-1,1))} -> 0 | O10: {=IF(ISNA(INDEX(Originals!$K$7:$K$88,MATCH($A10,Originals!$K$7:$K$88,0)-1,1)),0,INDEX(Originals!$K$7:$K$88,MATCH($A10,Originals!$K$7:$K$88,0)-1,1))} -> 0 | P10: {=IF(ISNA(INDEX(Originals!$L$7:$L$88,MATCH($A10,Originals!$L$7:$L$88,0)-1,1)),0,INDEX(Originals!$L$7:$L$88,MATCH($A10,Originals!$L$7:$L$88,0)-1,1))} -> 0 | Q10: {=IF(ISNA(INDEX(Originals!$M$7:$M$88,MATCH($A10,Originals!$M$7:$M$88,0)-1,1)),0,INDEX(Originals!$M$7:$M$88,MATCH($A10,Originals!$M$7:$M$88,0)-1,1))} -> 0 | R10: {=IF(ISNA(INDEX(Originals!$N$7:$N$88,MATCH($A10,Originals!$N$7:$N$88,0)-1,1)),0,INDEX(Originals!$N$7:$N$88,MATCH($A10,Originals!$N$7:$N$88,0)-1,1))} -> 0 | S10: {=IF(ISNA(INDEX(Originals!$P$7:$P$88,MATCH($A10,Originals!$P$7:$P$88,0)-1,1)),0,INDEX(Originals!$P$7:$P$88,MATCH($A10,Originals!$P$7:$P$88,0)-1,1))} -> 0 | T10: {=IF(ISNA(INDEX(Originals!$Q$7:$Q$88,MATCH($A10,Originals!$Q$7:$Q$88,0)-1,1)),0,INDEX(Originals!$Q$7:$Q$88,MATCH($A10,Originals!$Q$7:$Q$88,0)-1,1))} -> 0 | U10: {=IF(ISNA(INDEX(Originals!$R$7:$R$88,MATCH($A10,Originals!$R$7:$R$88,0)-1,1)),0,INDEX(Originals!$R$7:$R$88,MATCH($A10,Originals!$R$7:$R$88,0)-1,1))} -> 0 | V10: {=IF(ISNA(INDEX(Originals!$S$7:$S$88,MATCH($A10,Originals!$S$7:$S$88,0)-1,1)),0,INDEX(Originals!$S$7:$S$88,MATCH($A10,Originals!$S$7:$S$88,0)-1,1))} -> 0
A11: BB055-BLUSH-52 | B11: =SUM(H11:X11) -> 0 | C11: Originals | D11: Core | H11: {=IF(ISNA(INDEX(Originals!$C$7:$C$88,MATCH($A11,Originals!$C$7:$C$88,0)-1,1)),0,INDEX(Originals!$C$7:$C$88,MATCH($A11,Originals!$C$7:$C$88,0)-1,1))} -> 0 | I11: {=IF(ISNA(INDEX(Originals!$D$7:$D$88,MATCH($A11,Originals!$D$7:$D$88,0)-1,1)),0,INDEX(Originals!$D$7:$D$88,MATCH($A11,Originals!$D$7:$D$88,0)-1,1))} -> 0 | J11: {=IF(ISNA(INDEX(Originals!$E$7:$E$88,MATCH($A11,Originals!$E$7:$E$88,0)-1,1)),0,INDEX(Originals!$E$7:$E$88,MATCH($A11,Originals!$E$7:$E$88,0)-1,1))} -> 0 | K11: {=IF(ISNA(INDEX(Originals!$F$7:$F$88,MATCH($A11,Originals!$F$7:$F$88,0)-1,1)),0,INDEX(Originals!$F$7:$F$88,MATCH($A11,Originals!$F$7:$F$88,0)-1,1))} -> 0 | L11: {=IF(ISNA(INDEX(Originals!$G$7:$G$88,MATCH($A11,Originals!$G$7:$G$88,0)-1,1)),0,INDEX(Originals!$G$7:$G$88,MATCH($A11,Originals!$G$7:$G$88,0)-1,1))} -> 0 | M11: {=IF(ISNA(INDEX(Originals!$H$7:$H$88,MATCH($A11,Originals!$H$7:$H$88,0)-1,1)),0,INDEX(Originals!$H$7:$H$88,MATCH($A11,Originals!$H$7:$H$88,0)-1,1))} -> 0 | N11: {=IF(ISNA(INDEX(Originals!$J$7:$J$88,MATCH($A11,Originals!$J$7:$J$88,0)-1,1)),0,INDEX(Originals!$J$7:$J$88,MATCH($A11,Originals!$J$7:$J$88,0)-1,1))} -> 0 | O11: {=IF(ISNA(INDEX(Originals!$K$7:$K$88,MATCH($A11,Originals!$K$7:$K$88,0)-1,1)),0,INDEX(Originals!$K$7:$K$88,MATCH($A11,Originals!$K$7:$K$88,0)-1,1))} -> 0 | P11: {=IF(ISNA(INDEX(Originals!$L$7:$L$88,MATCH($A11,Originals!$L$7:$L$88,0)-1,1)),0,INDEX(Originals!$L$7:$L$88,MATCH($A11,Originals!$L$7:$L$88,0)-1,1))} -> 0 | Q11: {=IF(ISNA(INDEX(Originals!$M$7:$M$88,MATCH($A11,Originals!$M$7:$M$88,0)-1,1)),0,INDEX(Originals!$M$7:$M$88,MATCH($A11,Originals!$M$7:$M$88,0)-1,1))} -> 0 | R11: {=IF(ISNA(INDEX(Originals!$N$7:$N$88,MATCH($A11,Originals!$N$7:$N$88,0)-1,1)),0,INDEX(Originals!$N$7:$N$88,MATCH($A11,Originals!$N$7:$N$88,0)-1,1))} -> 0 | S11: {=IF(ISNA(INDEX(Originals!$P$7:$P$88,MATCH($A11,Originals!$P$7:$P$88,0)-1,1)),0,INDEX(Originals!$P$7:$P$88,MATCH($A11,Originals!$P$7:$P$88,0)-1,1))} -> 0 | T11: {=IF(ISNA(INDEX(Originals!$Q$7:$Q$88,MATCH($A11,Originals!$Q$7:$Q$88,0)-1,1)),0,INDEX(Originals!$Q$7:$Q$88,MATCH($A11,Originals!$Q$7:$Q$88,0)-1,1))} -> 0 | U11: {=IF(ISNA(INDEX(Originals!$R$7:$R$88,MATCH($A11,Originals!$R$7:$R$88,0)-1,1)),0,INDEX(Originals!$R$7:$R$88,MATCH($A11,Originals!$R$7:$R$88,0)-1,1))} -> 0 | V11: {=IF(ISNA(INDEX(Originals!$S$7:$S$88,MATCH($A11,Originals!$S$7:$S$88,0)-1,1)),0,INDEX(Originals!$S$7:$S$88,MATCH($A11,Originals!$S$7:$S$88,0)-1,1))} -> 0
A12: BB055-CHAMBRAY-37 | B12: =SUM(H12:X12) -> 0 | C12: Originals | D12: Core | H12: {=IF(ISNA(INDEX(Originals!$C$7:$C$88,MATCH($A12,Originals!$C$7:$C$88,0)-1,1)),0,INDEX(Originals!$C$7:$C$88,MATCH($A12,Originals!$C$7:$C$88,0)-1,1))} -> 0 | I12: {=IF(ISNA(INDEX(Originals!$D$7:$D$88,MATCH($A12,Originals!$D$7:$D$88,0)-1,1)),0,INDEX(Originals!$D$7:$D$88,MATCH($A12,Originals!$D$7:$D$88,0)-1,1))} -> 0 | J12: {=IF(ISNA(INDEX(Originals!$E$7:$E$88,MATCH($A12,Originals!$E$7:$E$88,0)-1,1)),0,INDEX(Originals!$E$7:$E$88,MATCH($A12,Originals!$E$7:$E$88,0)-1,1))} -> 0 | K12: {=IF(ISNA(INDEX(Originals!$F$7:$F$88,MATCH($A12,Originals!$F$7:$F$88,0)-1,1)),0,INDEX(Originals!$F$7:$F$88,MATCH($A12,Originals!$F$7:$F$88,0)-1,1))} -> 0 | L12: {=IF(ISNA(INDEX(Originals!$G$7:$G$88,MATCH($A12,Originals!$G$7:$G$88,0)-1,1)),0,INDEX(Originals!$G$7:$G$88,MATCH($A12,Originals!$G$7:$G$88,0)-1,1))} -> 0 | M12: {=IF(ISNA(INDEX(Originals!$H$7:$H$88,MATCH($A12,Originals!$H$7:$H$88,0)-1,1)),0,INDEX(Originals!$H$7:$H$88,MATCH($A12,Originals!$H$7:$H$88,0)-1,1))} -> 0 | N12: {=IF(ISNA(INDEX(Originals!$J$7:$J$88,MATCH($A12,Originals!$J$7:$J$88,0)-1,1)),0,INDEX(Originals!$J$7:$J$88,MATCH($A12,Originals!$J$7:$J$88,0)-1,1))} -> 0 | O12: {=IF(ISNA(INDEX(Originals!$K$7:$K$88,MATCH($A12,Originals!$K$7:$K$88,0)-1,1)),0,INDEX(Originals!$K$7:$K$88,MATCH($A12,Originals!$K$7:$K$88,0)-1,1))} -> 0 | P12: {=IF(ISNA(INDEX(Originals!$L$7:$L$88,MATCH($A12,Originals!$L$7:$L$88,0)-1,1)),0,INDEX(Originals!$L$7:$L$88,MATCH($A12,Originals!$L$7:$L$88,0)-1,1))} -> 0 | Q12: {=IF(ISNA(INDEX(Originals!$M$7:$M$88,MATCH($A12,Originals!$M$7:$M$88,0)-1,1)),0,INDEX(Originals!$M$7:$M$88,MATCH($A12,Originals!$M$7:$M$88,0)-1,1))} -> 0 | R12: {=IF(ISNA(INDEX(Originals!$N$7:$N$88,MATCH($A12,Originals!$N$7:$N$88,0)-1,1)),0,INDEX(Originals!$N$7:$N$88,MATCH($A12,Originals!$N$7:$N$88,0)-1,1))} -> 0 | S12: {=IF(ISNA(INDEX(Originals!$P$7:$P$88,MATCH($A12,Originals!$P$7:$P$88,0)-1,1)),0,INDEX(Originals!$P$7:$P$88,MATCH($A12,Originals!$P$7:$P$88,0)-1,1))} -> 0 | T12: {=IF(ISNA(INDEX(Originals!$Q$7:$Q$88,MATCH($A12,Originals!$Q$7:$Q$88,0)-1,1)),0,INDEX(Originals!$Q$7:$Q$88,MATCH($A12,Originals!$Q$7:$Q$88,0)-1,1))} -> 0 | U12: {=IF(ISNA(INDEX(Originals!$R$7:$R$88,MATCH($A12,Originals!$R$7:$R$88,0)-1,1)),0,INDEX(Originals!$R$7:$R$88,MATCH($A12,Originals!$R$7:$R$88,0)-1,1))} -> 0 | V12: {=IF(ISNA(INDEX(Originals!$S$7:$S$88,MATCH($A12,Originals!$S$7:$S$88,0)-1,1)),0,INDEX(Originals!$S$7:$S$88,MATCH($A12,Originals!$S$7:$S$88,0)-1,1))} -> 0
A13: BB055-CHAMBRAY-42 | B13: =SUM(H13:X13) -> 0 | C13: Originals | D13: Core | H13: {=IF(ISNA(INDEX(Originals!$C$7:$C$88,MATCH($A13,Originals!$C$7:$C$88,0)-1,1)),0,INDEX(Originals!$C$7:$C$88,MATCH($A13,Originals!$C$7:$C$88,0)-1,1))} -> 0 | I13: {=IF(ISNA(INDEX(Originals!$D$7:$D$88,MATCH($A13,Originals!$D$7:$D$88,0)-1,1)),0,INDEX(Originals!$D$7:$D$88,MATCH($A13,Originals!$D$7:$D$88,0)-1,1))} -> 0 | J13: {=IF(ISNA(INDEX(Originals!$E$7:$E$88,MATCH($A13,Originals!$E$7:$E$88,0)-1,1)),0,INDEX(Originals!$E$7:$E$88,MATCH($A13,Originals!$E$7:$E$88,0)-1,1))} -> 0 | K13: {=IF(ISNA(INDEX(Originals!$F$7:$F$88,MATCH($A13,Originals!$F$7:$F$88,0)-1,1)),0,INDEX(Originals!$F$7:$F$88,MATCH($A13,Originals!$F$7:$F$88,0)-1,1))} -> 0 | L13: {=IF(ISNA(INDEX(Originals!$G$7:$G$88,MATCH($A13,Originals!$G$7:$G$88,0)-1,1)),0,INDEX(Originals!$G$7:$G$88,MATCH($A13,Originals!$G$7:$G$88,0)-1,1))} -> 0 | M13: {=IF(ISNA(INDEX(Originals!$H$7:$H$88,MATCH($A13,Originals!$H$7:$H$88,0)-1,1)),0,INDEX(Originals!$H$7:$H$88,MATCH($A13,Originals!$H$7:$H$88,0)-1,1))} -> 0 | N13: {=IF(ISNA(INDEX(Originals!$J$7:$J$88,MATCH($A13,Originals!$J$7:$J$88,0)-1,1)),0,INDEX(Originals!$J$7:$J$88,MATCH($A13,Originals!$J$7:$J$88,0)-1,1))} -> 0 | O13: {=IF(ISNA(INDEX(Originals!$K$7:$K$88,MATCH($A13,Originals!$K$7:$K$88,0)-1,1)),0,INDEX(Originals!$K$7:$K$88,MATCH($A13,Originals!$K$7:$K$88,0)-1,1))} -> 0 | P13: {=IF(ISNA(INDEX(Originals!$L$7:$L$88,MATCH($A13,Originals!$L$7:$L$88,0)-1,1)),0,INDEX(Originals!$L$7:$L$88,MATCH($A13,Originals!$L$7:$L$88,0)-1,1))} -> 0 | Q13: {=IF(ISNA(INDEX(Originals!$M$7:$M$88,MATCH($A13,Originals!$M$7:$M$88,0)-1,1)),0,INDEX(Originals!$M$7:$M$88,MATCH($A13,Originals!$M$7:$M$88,0)-1,1))} -> 0 | R13: {=IF(ISNA(INDEX(Originals!$N$7:$N$88,MATCH($A13,Originals!$N$7:$N$88,0)-1,1)),0,INDEX(Originals!$N$7:$N$88,MATCH($A13,Originals!$N$7:$N$88,0)-1,1))} -> 0 | S13: {=IF(ISNA(INDEX(Originals!$P$7:$P$88,MATCH($A13,Originals!$P$7:$P$88,0)-1,1)),0,INDEX(Originals!$P$7:$P$88,MATCH($A13,Originals!$P$7:$P$88,0)-1,1))} -> 0 | T13: {=IF(ISNA(INDEX(Originals!$Q$7:$Q$88,MATCH($A13,Originals!$Q$7:$Q$88,0)-1,1)),0,INDEX(Originals!$Q$7:$Q$88,MATCH($A13,Originals!$Q$7:$Q$88,0)-1,1))} -> 0 | U13: {=IF(ISNA(INDEX(Originals!$R$7:$R$88,MATCH($A13,Originals!$R$7:$R$88,0)-1,1)),0,INDEX(Originals!$R$7:$R$88,MATCH($A13,Originals!$R$7:$R$88,0)-1,1))} -> 0 | V13: {=IF(ISNA(INDEX(Originals!$S$7:$S$88,MATCH($A13,Originals!$S$7:$S$88,0)-1,1)),0,INDEX(Originals!$S$7:$S$88,MATCH($A13,Originals!$S$7:$S$88,0)-1,1))} -> 0
... A325: LG285-PINKSTRIPE-54 | B325: =SUM(H325:X325) -> 0 | C325: Originals | D325: Print | H325: {=IF(ISNA(INDEX(Originals!$C$7:$C$88,MATCH($A325,Originals!$C$7:$C$88,0)-1,1)),0,INDEX(Originals!$C$7:$C$88,MATCH($A325,Originals!$C$7:$C$88,0)-1,1))} -> 0 | I325: {=IF(ISNA(INDEX(Originals!$D$7:$D$88,MATCH($A325,Originals!$D$7:$D$88,0)-1,1)),0,INDEX(Originals!$D$7:$D$88,MATCH($A325,Originals!$D$7:$D$88,0)-1,1))} -> 0 | J325: {=IF(ISNA(INDEX(Originals!$E$7:$E$88,MATCH($A325,Originals!$E$7:$E$88,0)-1,1)),0,INDEX(Originals!$E$7:$E$88,MATCH($A325,Originals!$E$7:$E$88,0)-1,1))} -> 0 | K325: {=IF(ISNA(INDEX(Originals!$F$7:$F$88,MATCH($A325,Originals!$F$7:$F$88,0)-1,1)),0,INDEX(Originals!$F$7:$F$88,MATCH($A325,Originals!$F$7:$F$88,0)-1,1))} -> 0 | L325: {=IF(ISNA(INDEX(Originals!$G$7:$G$88,MATCH($A325,Originals!$G$7:$G$88,0)-1,1)),0,INDEX(Originals!$G$7:$G$88,MATCH($A325,Originals!$G$7:$G$88,0)-1,1))} -> 0 | M325: {=IF(ISNA(INDEX(Originals!$H$7:$H$88,MATCH($A325,Originals!$H$7:$H$88,0)-1,1)),0,INDEX(Originals!$H$7:$H$88,MATCH($A325,Originals!$H$7:$H$88,0)-1,1))} -> 0 | N325: {=IF(ISNA(INDEX(Originals!$J$7:$J$88,MATCH($A325,Originals!$J$7:$J$88,0)-1,1)),0,INDEX(Originals!$J$7:$J$88,MATCH($A325,Originals!$J$7:$J$88,0)-1,1))} -> 0 | O325: {=IF(ISNA(INDEX(Originals!$K$7:$K$88,MATCH($A325,Originals!$K$7:$K$88,0)-1,1)),0,INDEX(Originals!$K$7:$K$88,MATCH($A325,Originals!$K$7:$K$88,0)-1,1))} -> 0 | P325: {=IF(ISNA(INDEX(Originals!$L$7:$L$88,MATCH($A325,Originals!$L$7:$L$88,0)-1,1)),0,INDEX(Originals!$L$7:$L$88,MATCH($A325,Originals!$L$7:$L$88,0)-1,1))} -> 0 | Q325: {=IF(ISNA(INDEX(Originals!$M$7:$M$88,MATCH($A325,Originals!$M$7:$M$88,0)-1,1)),0,INDEX(Originals!$M$7:$M$88,MATCH($A325,Originals!$M$7:$M$88,0)-1,1))} -> 0 | R325: {=IF(ISNA(INDEX(Originals!$N$7:$N$88,MATCH($A325,Originals!$N$7:$N$88,0)-1,1)),0,INDEX(Originals!$N$7:$N$88,MATCH($A325,Originals!$N$7:$N$88,0)-1,1))} -> 0 | S325: {=IF(ISNA(INDEX(Originals!$P$7:$P$88,MATCH($A325,Originals!$P$7:$P$88,0)-1,1)),0,INDEX(Originals!$P$7:$P$88,MATCH($A325,Originals!$P$7:$P$88,0)-1,1))} -> 0 | T325: {=IF(ISNA(INDEX(Originals!$Q$7:$Q$88,MATCH($A325,Originals!$Q$7:$Q$88,0)-1,1)),0,INDEX(Originals!$Q$7:$Q$88,MATCH($A325,Originals!$Q$7:$Q$88,0)-1,1))} -> 0 | U325: {=IF(ISNA(INDEX(Originals!$R$7:$R$88,MATCH($A325,Originals!$R$7:$R$88,0)-1,1)),0,INDEX(Originals!$R$7:$R$88,MATCH($A325,Originals!$R$7:$R$88,0)-1,1))} -> 0 | V325: {=IF(ISNA(INDEX(Originals!$S$7:$S$88,MATCH($A325,Originals!$S$7:$S$88,0)-1,1)),0,INDEX(Originals!$S$7:$S$88,MATCH($A325,Originals!$S$7:$S$88,0)-1,1))} -> 0
A326: VM-STAND-WHITE-TIMBER | B326: =SUM(H326:X326) -> 0 | C326: Originals | H326: {=IF(ISNA(INDEX(Originals!$C$7:$C$88,MATCH($A326,Originals!$C$7:$C$88,0)-1,1)),0,INDEX(Originals!$C$7:$C$88,MATCH($A326,Originals!$C$7:$C$88,0)-1,1))} -> 0 | I326: {=IF(ISNA(INDEX(Originals!$D$7:$D$88,MATCH($A326,Originals!$D$7:$D$88,0)-1,1)),0,INDEX(Originals!$D$7:$D$88,MATCH($A326,Originals!$D$7:$D$88,0)-1,1))} -> 0 | J326: {=IF(ISNA(INDEX(Originals!$E$7:$E$88,MATCH($A326,Originals!$E$7:$E$88,0)-1,1)),0,INDEX(Originals!$E$7:$E$88,MATCH($A326,Originals!$E$7:$E$88,0)-1,1))} -> 0 | K326: {=IF(ISNA(INDEX(Originals!$F$7:$F$88,MATCH($A326,Originals!$F$7:$F$88,0)-1,1)),0,INDEX(Originals!$F$7:$F$88,MATCH($A326,Originals!$F$7:$F$88,0)-1,1))} -> 0 | L326: {=IF(ISNA(INDEX(Originals!$G$7:$G$88,MATCH($A326,Originals!$G$7:$G$88,0)-1,1)),0,INDEX(Originals!$G$7:$G$88,MATCH($A326,Originals!$G$7:$G$88,0)-1,1))} -> 0 | M326: {=IF(ISNA(INDEX(Originals!$H$7:$H$88,MATCH($A326,Originals!$H$7:$H$88,0)-1,1)),0,INDEX(Originals!$H$7:$H$88,MATCH($A326,Originals!$H$7:$H$88,0)-1,1))} -> 0 | N326: {=IF(ISNA(INDEX(Originals!$J$7:$J$88,MATCH($A326,Originals!$J$7:$J$88,0)-1,1)),0,INDEX(Originals!$J$7:$J$88,MATCH($A326,Originals!$J$7:$J$88,0)-1,1))} -> 0 | O326: {=IF(ISNA(INDEX(Originals!$K$7:$K$88,MATCH($A326,Originals!$K$7:$K$88,0)-1,1)),0,INDEX(Originals!$K$7:$K$88,MATCH($A326,Originals!$K$7:$K$88,0)-1,1))} -> 0 | P326: {=IF(ISNA(INDEX(Originals!$L$7:$L$88,MATCH($A326,Originals!$L$7:$L$88,0)-1,1)),0,INDEX(Originals!$L$7:$L$88,MATCH($A326,Originals!$L$7:$L$88,0)-1,1))} -> 0 | Q326: {=IF(ISNA(INDEX(Originals!$M$7:$M$88,MATCH($A326,Originals!$M$7:$M$88,0)-1,1)),0,INDEX(Originals!$M$7:$M$88,MATCH($A326,Originals!$M$7:$M$88,0)-1,1))} -> 0 | R326: {=IF(ISNA(INDEX(Originals!$N$7:$N$88,MATCH($A326,Originals!$N$7:$N$88,0)-1,1)),0,INDEX(Originals!$N$7:$N$88,MATCH($A326,Originals!$N$7:$N$88,0)-1,1))} -> 0 | S326: {=IF(ISNA(INDEX(Originals!$P$7:$P$88,MATCH($A326,Originals!$P$7:$P$88,0)-1,1)),0,INDEX(Originals!$P$7:$P$88,MATCH($A326,Originals!$P$7:$P$88,0)-1,1))} -> 0 | T326: {=IF(ISNA(INDEX(Originals!$Q$7:$Q$88,MATCH($A326,Originals!$Q$7:$Q$88,0)-1,1)),0,INDEX(Originals!$Q$7:$Q$88,MATCH($A326,Originals!$Q$7:$Q$88,0)-1,1))} -> 0 | U326: {=IF(ISNA(INDEX(Originals!$R$7:$R$88,MATCH($A326,Originals!$R$7:$R$88,0)-1,1)),0,INDEX(Originals!$R$7:$R$88,MATCH($A326,Originals!$R$7:$R$88,0)-1,1))} -> 0 | V326: {=IF(ISNA(INDEX(Originals!$S$7:$S$88,MATCH($A326,Originals!$S$7:$S$88,0)-1,1)),0,INDEX(Originals!$S$7:$S$88,MATCH($A326,Originals!$S$7:$S$88,0)-1,1))} -> 0
A327: VM-STAND-TABLETOP | B327: =SUM(H327:X327) -> 0 | C327: Originals | H327: {=IF(ISNA(INDEX(Originals!$C$7:$C$88,MATCH($A327,Originals!$C$7:$C$88,0)-1,1)),0,INDEX(Originals!$C$7:$C$88,MATCH($A327,Originals!$C$7:$C$88,0)-1,1))} -> 0 | I327: {=IF(ISNA(INDEX(Originals!$D$7:$D$88,MATCH($A327,Originals!$D$7:$D$88,0)-1,1)),0,INDEX(Originals!$D$7:$D$88,MATCH($A327,Originals!$D$7:$D$88,0)-1,1))} -> 0 | J327: {=IF(ISNA(INDEX(Originals!$E$7:$E$88,MATCH($A327,Originals!$E$7:$E$88,0)-1,1)),0,INDEX(Originals!$E$7:$E$88,MATCH($A327,Originals!$E$7:$E$88,0)-1,1))} -> 0 | K327: {=IF(ISNA(INDEX(Originals!$F$7:$F$88,MATCH($A327,Originals!$F$7:$F$88,0)-1,1)),0,INDEX(Originals!$F$7:$F$88,MATCH($A327,Originals!$F$7:$F$88,0)-1,1))} -> 0 | L327: {=IF(ISNA(INDEX(Originals!$G$7:$G$88,MATCH($A327,Originals!$G$7:$G$88,0)-1,1)),0,INDEX(Originals!$G$7:$G$88,MATCH($A327,Originals!$G$7:$G$88,0)-1,1))} -> 0 | M327: {=IF(ISNA(INDEX(Originals!$H$7:$H$88,MATCH($A327,Originals!$H$7:$H$88,0)-1,1)),0,INDEX(Originals!$H$7:$H$88,MATCH($A327,Originals!$H$7:$H$88,0)-1,1))} -> 0 | N327: {=IF(ISNA(INDEX(Originals!$J$7:$J$88,MATCH($A327,Originals!$J$7:$J$88,0)-1,1)),0,INDEX(Originals!$J$7:$J$88,MATCH($A327,Originals!$J$7:$J$88,0)-1,1))} -> 0 | O327: {=IF(ISNA(INDEX(Originals!$K$7:$K$88,MATCH($A327,Originals!$K$7:$K$88,0)-1,1)),0,INDEX(Originals!$K$7:$K$88,MATCH($A327,Originals!$K$7:$K$88,0)-1,1))} -> 0 | P327: {=IF(ISNA(INDEX(Originals!$L$7:$L$88,MATCH($A327,Originals!$L$7:$L$88,0)-1,1)),0,INDEX(Originals!$L$7:$L$88,MATCH($A327,Originals!$L$7:$L$88,0)-1,1))} -> 0 | Q327: {=IF(ISNA(INDEX(Originals!$M$7:$M$88,MATCH($A327,Originals!$M$7:$M$88,0)-1,1)),0,INDEX(Originals!$M$7:$M$88,MATCH($A327,Originals!$M$7:$M$88,0)-1,1))} -> 0 | R327: {=IF(ISNA(INDEX(Originals!$N$7:$N$88,MATCH($A327,Originals!$N$7:$N$88,0)-1,1)),0,INDEX(Originals!$N$7:$N$88,MATCH($A327,Originals!$N$7:$N$88,0)-1,1))} -> 0 | S327: {=IF(ISNA(INDEX(Originals!$P$7:$P$88,MATCH($A327,Originals!$P$7:$P$88,0)-1,1)),0,INDEX(Originals!$P$7:$P$88,MATCH($A327,Originals!$P$7:$P$88,0)-1,1))} -> 0 | T327: {=IF(ISNA(INDEX(Originals!$Q$7:$Q$88,MATCH($A327,Originals!$Q$7:$Q$88,0)-1,1)),0,INDEX(Originals!$Q$7:$Q$88,MATCH($A327,Originals!$Q$7:$Q$88,0)-1,1))} -> 0 | U327: {=IF(ISNA(INDEX(Originals!$R$7:$R$88,MATCH($A327,Originals!$R$7:$R$88,0)-1,1)),0,INDEX(Originals!$R$7:$R$88,MATCH($A327,Originals!$R$7:$R$88,0)-1,1))} -> 0 | V327: {=IF(ISNA(INDEX(Originals!$S$7:$S$88,MATCH($A327,Originals!$S$7:$S$88,0)-1,1)),0,INDEX(Originals!$S$7:$S$88,MATCH($A327,Originals!$S$7:$S$88,0)-1,1))} -> 0
A328: HE-CB230-BOBBIE-L | B328: =SUM(H328:X328) -> 0 | C328: Heritage | D328: Core | H328: {=IF(ISNA(INDEX(Heritage!$C$6:$C$63,MATCH($A328,Heritage!$C$6:$C$63,0)-1,1)),0,INDEX(Heritage!$C$6:$C$63,MATCH($A328,Heritage!$C$6:$C$63,0)-1,1))} -> 0 | I328: {=IF(ISNA(INDEX(Heritage!$D$6:$D$63,MATCH($A328,Heritage!$D$6:$D$63,0)-1,1)),0,INDEX(Heritage!$D$6:$D$63,MATCH($A328,Heritage!$D$6:$D$63,0)-1,1))} -> 0 | J328: {=IF(ISNA(INDEX(Heritage!$E$6:$E$63,MATCH($A328,Heritage!$E$6:$E$63,0)-1,1)),0,INDEX(Heritage!$E$6:$E$63,MATCH($A328,Heritage!$E$6:$E$63,0)-1,1))} -> 0 | K328: {=IF(ISNA(INDEX(Heritage!$F$6:$F$63,MATCH($A328,Heritage!$F$6:$F$63,0)-1,1)),0,INDEX(Heritage!$F$6:$F$63,MATCH($A328,Heritage!$F$6:$F$63,0)-1,1))} -> 0 | L328: {=IF(ISNA(INDEX(Heritage!$H$6:$H$63,MATCH($A328,Heritage!$H$6:$H$63,0)-1,1)),0,INDEX(Heritage!$H$6:$H$63,MATCH($A328,Heritage!$H$6:$H$63,0)-1,1))} -> 0 | M328: {=IF(ISNA(INDEX(Heritage!$I$6:$I$63,MATCH($A328,Heritage!$I$6:$I$63,0)-1,1)),0,INDEX(Heritage!$I$6:$I$63,MATCH($A328,Heritage!$I$6:$I$63,0)-1,1))} -> 0 | N328: {=IF(ISNA(INDEX(Heritage!$J$6:$J$63,MATCH($A328,Heritage!$J$6:$J$63,0)-1,1)),0,INDEX(Heritage!$J$6:$J$63,MATCH($A328,Heritage!$J$6:$J$63,0)-1,1))} -> 0 | O328: {=IF(ISNA(INDEX(Heritage!$K$6:$K$63,MATCH($A328,Heritage!$K$6:$K$63,0)-1,1)),0,INDEX(Heritage!$K$6:$K$63,MATCH($A328,Heritage!$K$6:$K$63,0)-1,1))} -> 0 | P328: {=IF(ISNA(INDEX(Heritage!$M$6:$M$63,MATCH($A328,Heritage!$M$6:$M$63,0)-1,1)),0,INDEX(Heritage!$M$6:$M$63,MATCH($A328,Heritage!$M$6:$M$63,0)-1,1))} -> 0 | Q328: {=IF(ISNA(INDEX(Heritage!$N$6:$N$63,MATCH($A328,Heritage!$N$6:$N$63,0)-1,1)),0,INDEX(Heritage!$N$6:$N$63,MATCH($A328,Heritage!$N$6:$N$63,0)-1,1))} -> 0 | R328: {=IF(ISNA(INDEX(Heritage!$O$6:$O$63,MATCH($A328,Heritage!$O$6:$O$63,0)-1,1)),0,INDEX(Heritage!$O$6:$O$63,MATCH($A328,Heritage!$O$6:$O$63,0)-1,1))} -> 0 | S328: {=IF(ISNA(INDEX(Heritage!$P$6:$P$63,MATCH($A328,Heritage!$P$6:$P$63,0)-1,1)),0,INDEX(Heritage!$P$6:$P$63,MATCH($A328,Heritage!$P$6:$P$63,0)-1,1))} -> 0
